BEGIN:VCALENDAR
VERSION:2.0
PRODID:-//Lifestyle College - ECPv6.15.17.1//NONSGML v1.0//EN
CALSCALE:GREGORIAN
METHOD:PUBLISH
X-WR-CALNAME:Lifestyle College
X-ORIGINAL-URL:https://lifestylecollege.com.au
X-WR-CALDESC:Events for Lifestyle College
REFRESH-INTERVAL;VALUE=DURATION:PT1H
X-Robots-Tag:noindex
X-PUBLISHED-TTL:PT1H
BEGIN:VTIMEZONE
TZID:Australia/Brisbane
BEGIN:STANDARD
TZOFFSETFROM:+1000
TZOFFSETTO:+1000
TZNAME:AEST
DTSTART:20240101T000000
END:STANDARD
END:VTIMEZONE
BEGIN:VEVENT
DTSTART;TZID=Australia/Brisbane:20251202T183000
DTEND;TZID=Australia/Brisbane:20251202T200000
DTSTAMP:20260420T024049
CREATED:20250922T045747Z
LAST-MODIFIED:20250922T045747Z
UID:9941-1764700200-1764705600@lifestylecollege.com.au
SUMMARY:2024 Class Electives - Week 8
DESCRIPTION:This will be the Week 8 session for the electives\, with the sessions devoted to devotions\, sharing\, guest speakers and practical applications of what has been learned in the course until now. Since we will not be viewing videos at these sessions\, you will be responsible for watching your videos independently\, with the view towards bringing any questions and discussion to the session to share if needed. \nGuest Speaker: TBA \nBelow are the details for each elective as a reminder of which course and module to view during the week: \nNAT11088003 – Introduction to Pastoral Care \n\nUnit 7: Pastoral Care\nModule 8: Referring and Reporting\n\nBSBCMM411 – Speaking from the Platform  \n\nUnit 7: Platform\nModule 8: Speaking in a service
URL:https://lifestylecollege.com.au/calendar/2024-class-electives-week-8/
LOCATION:Lifestyle College\, 2/83 Sun Valley Road\, Kin Kora\, QLD\, 4680\, Australia
CATEGORIES:Lecture
ORGANIZER;CN="Ps. Steve Luba":MAILTO:hello@lifestylecollege.com.au
END:VEVENT
BEGIN:VEVENT
DTSTART;TZID=Australia/Brisbane:20251204T190000
DTEND;TZID=Australia/Brisbane:20251204T203000
DTSTAMP:20260420T024049
CREATED:20250919T014720Z
LAST-MODIFIED:20250919T014720Z
UID:9907-1764874800-1764880200@lifestylecollege.com.au
SUMMARY:Teamwork- 2025 Module 8
DESCRIPTION:BSBXTW301 – Work in a team \n\nUnit 4: Team Players and Teamwork\nModule 8: Motivation and Conflict
URL:https://lifestylecollege.com.au/calendar/teamwork-2025-module-8/
LOCATION:Lifestyle College\, 2/83 Sun Valley Road\, Kin Kora\, QLD\, 4680\, Australia
CATEGORIES:Lecture
ORGANIZER;CN="Ps. Steve Luba":MAILTO:hello@lifestylecollege.com.au
END:VEVENT
BEGIN:VEVENT
DTSTART;TZID=Australia/Brisbane:20251209T183000
DTEND;TZID=Australia/Brisbane:20251209T200000
DTSTAMP:20260420T024049
CREATED:20250922T050335Z
LAST-MODIFIED:20250922T050335Z
UID:9943-1765305000-1765310400@lifestylecollege.com.au
SUMMARY:2024 Class Electives - Week 9
DESCRIPTION:This will be the Week 9 and final session for the Term 4 electives\, with the sessions devoted to devotions\, sharing\, guest speakers and practical applications of what has been learned in the course until now. Since we will not be viewing videos at these sessions\, you will be responsible for watching your videos independently\, with the view towards bringing any questions and discussion to the session to share if needed. \nGuest Speaker: TBA \nBelow are the details for each elective as a reminder of which course and module to view during the week: \nNAT11088003 – Introduction to Pastoral Care \n\nUnit 7: Pastoral Care\nModule 9: Debriefing and Confidentiality\n\nBSBCMM411 – Speaking from the Platform  \n\nUnit 7: Platform\nModule 9: Evaluation and other types of speaking in Ministry
URL:https://lifestylecollege.com.au/calendar/2024-class-electives-week-9/
LOCATION:Lifestyle College\, 2/83 Sun Valley Road\, Kin Kora\, QLD\, 4680\, Australia
CATEGORIES:Lecture
ORGANIZER;CN="Ps. Steve Luba":MAILTO:hello@lifestylecollege.com.au
END:VEVENT
BEGIN:VEVENT
DTSTART;TZID=Australia/Brisbane:20251211T190000
DTEND;TZID=Australia/Brisbane:20251211T203000
DTSTAMP:20260420T024049
CREATED:20250919T014927Z
LAST-MODIFIED:20250919T014927Z
UID:9909-1765479600-1765485000@lifestylecollege.com.au
SUMMARY:Teamwork- 2025 Module 9
DESCRIPTION:BSBXTW301 – Work in a team \n\nUnit 4: Team Players and Teamwork\nModule 9: Summation
URL:https://lifestylecollege.com.au/calendar/teamwork-2025-module-9/
LOCATION:Lifestyle College\, 2/83 Sun Valley Road\, Kin Kora\, QLD\, 4680\, Australia
CATEGORIES:Lecture
ORGANIZER;CN="Ps. Steve Luba":MAILTO:hello@lifestylecollege.com.au
END:VEVENT
BEGIN:VEVENT
DTSTART;TZID=Australia/Brisbane:20251212T080000
DTEND;TZID=Australia/Brisbane:20251212T170000
DTSTAMP:20260420T024049
CREATED:20250919T015325Z
LAST-MODIFIED:20250922T050932Z
UID:9911-1765526400-1765558800@lifestylecollege.com.au
SUMMARY:Term 4 Ends
DESCRIPTION:
URL:https://lifestylecollege.com.au/calendar/term-4-ends/
LOCATION:Lifestyle College\, 2/83 Sun Valley Road\, Kin Kora\, QLD\, 4680\, Australia
ORGANIZER;CN="Ps. Steve Luba":MAILTO:hello@lifestylecollege.com.au
END:VEVENT
BEGIN:VEVENT
DTSTART;TZID=Australia/Brisbane:20251212T220000
DTEND;TZID=Australia/Brisbane:20251212T223000
DTSTAMP:20260420T024049
CREATED:20250922T052301Z
LAST-MODIFIED:20250922T052301Z
UID:9949-1765576800-1765578600@lifestylecollege.com.au
SUMMARY:Speaking from the Platform - 2024 (Assessment 2)
DESCRIPTION:Assessment 2: Prepare and present to a small group (5-15 min) of people different to Assessment 1 \nDue Date: Friday\, December 12 (Week 9) \nUsing the Assessment 2 Document provided under the assessment tile\,\nRevise\, Prepare\, Present\, Record a video and Evaluate the same Message as Assessment 1 to a different audience; \nMaking the changes required for the different context and audience requirements.
URL:https://lifestylecollege.com.au/calendar/speaking-from-the-platform-2024-assessment-2/
LOCATION:QLD
CATEGORIES:Assessment
ORGANIZER;CN="Ps. Steve Luba":MAILTO:hello@lifestylecollege.com.au
END:VEVENT
BEGIN:VEVENT
DTSTART;TZID=Australia/Brisbane:20251212T220000
DTEND;TZID=Australia/Brisbane:20251212T223000
DTSTAMP:20260420T024049
CREATED:20250922T053608Z
LAST-MODIFIED:20250922T054152Z
UID:9955-1765576800-1765578600@lifestylecollege.com.au
SUMMARY:Pastoral Care - 2024 (Assessment 2)
DESCRIPTION:Assessment 2 – Provision of care role play and reflection \nDue Date: Friday December 12 (Week 9) \nYou will be given 2 scenarios for which you must video record yourself role playing the provision of care using the skills you have learnt throughout the unit. On completion of your role play you must provide a reflection on how you could improve your provision of care in a real-life situation.
URL:https://lifestylecollege.com.au/calendar/pastoral-care-2024-assessment-2/
LOCATION:QLD
CATEGORIES:Assessment
ORGANIZER;CN="Ps. Steve Luba":MAILTO:hello@lifestylecollege.com.au
END:VEVENT
BEGIN:VEVENT
DTSTART;TZID=Australia/Brisbane:20251221T090000
DTEND;TZID=Australia/Brisbane:20251221T120000
DTSTAMP:20260420T024049
CREATED:20251031T030528Z
LAST-MODIFIED:20251031T030528Z
UID:10001-1766307600-1766318400@lifestylecollege.com.au
SUMMARY:Last Lifestyle Church Service of 2025
DESCRIPTION:Due to the annual Summer Sabbatical\, Sunday December 21 will be the last church service of the year across all Lifestyle Church locations. \nHave a wonderful Christmas break and we’ll see you again in the New Year. \nBless you all heaps and Merry Christmas. \nPs Steve
URL:https://lifestylecollege.com.au/calendar/last-lifestyle-church-service-of-2025/
LOCATION:Lifestyle Church\, 2/83 Sun Valley Rd\, Kin Kora\, Qld\, 4680
CATEGORIES:Meeting
ORGANIZER;CN="Ps. Steve Luba":MAILTO:hello@lifestylecollege.com.au
END:VEVENT
BEGIN:VEVENT
DTSTART;TZID=Australia/Brisbane:20251225T080000
DTEND;TZID=Australia/Brisbane:20251225T170000
DTSTAMP:20260420T024049
CREATED:20251031T031318Z
LAST-MODIFIED:20251031T031318Z
UID:10008-1766649600-1766682000@lifestylecollege.com.au
SUMMARY:Merry Christmas
DESCRIPTION:
URL:https://lifestylecollege.com.au/calendar/merry-christmas/
LOCATION:QLD
CATEGORIES:Community
END:VEVENT
END:VCALENDAR