BEGIN:VCALENDAR
VERSION:2.0
PRODID:-//Lifestyle College - ECPv6.15.17.1//NONSGML v1.0//EN
CALSCALE:GREGORIAN
METHOD:PUBLISH
X-WR-CALNAME:Lifestyle College
X-ORIGINAL-URL:https://lifestylecollege.com.au
X-WR-CALDESC:Events for Lifestyle College
REFRESH-INTERVAL;VALUE=DURATION:PT1H
X-Robots-Tag:noindex
X-PUBLISHED-TTL:PT1H
BEGIN:VTIMEZONE
TZID:Australia/Brisbane
BEGIN:STANDARD
TZOFFSETFROM:+1000
TZOFFSETTO:+1000
TZNAME:AEST
DTSTART:20240101T000000
END:STANDARD
END:VTIMEZONE
BEGIN:VEVENT
DTSTART;TZID=Australia/Brisbane:20251010T080000
DTEND;TZID=Australia/Brisbane:20251010T233000
DTSTAMP:20260420T143336
CREATED:20250709T063622Z
LAST-MODIFIED:20250709T063622Z
UID:9756-1760083200-1760139000@lifestylecollege.com.au
SUMMARY:Discipleship 1 - 2025 (Assessment 2 Closes)
DESCRIPTION:Assessment 2 – Knowledge Quiz. \nOpens: Monday\, September 15 (start of Week 9) \nCloses: either 5 days after it is opened OR 11:55PM Friday October 10 (week 12)\, whichever comes first. \nYou will find access to the quiz under the Assessment tile in Moodle. \nYou will be given 3 attempts to score 100%. Failing to attain mark of 100% or higher will result in a Not Yet Satisfactory grade for this assessment.
URL:https://lifestylecollege.com.au/calendar/discipleship-1-2025-assessment-2-closes/
LOCATION:QLD
CATEGORIES:Assessment
ORGANIZER;CN="Ps. Steve Luba":MAILTO:hello@lifestylecollege.com.au
END:VEVENT
BEGIN:VEVENT
DTSTART;TZID=Australia/Brisbane:20251009T190000
DTEND;TZID=Australia/Brisbane:20251009T203000
DTSTAMP:20260420T143336
CREATED:20250917T005711Z
LAST-MODIFIED:20250917T005711Z
UID:9886-1760036400-1760041800@lifestylecollege.com.au
SUMMARY:Teamwork- 2025 Module 1
DESCRIPTION:BSBXTW301 – Work in a team \n\nUnit 4: Team Players and Teamwork\nModule 1: Introduction to Teams
URL:https://lifestylecollege.com.au/calendar/teamwork-2025-module-1/
LOCATION:Lifestyle College\, 2/83 Sun Valley Road\, Kin Kora\, QLD\, 4680\, Australia
CATEGORIES:Lecture
ORGANIZER;CN="Ps. Steve Luba":MAILTO:hello@lifestylecollege.com.au
END:VEVENT
BEGIN:VEVENT
DTSTART;TZID=Australia/Brisbane:20251007T183000
DTEND;TZID=Australia/Brisbane:20251007T200000
DTSTAMP:20260420T143336
CREATED:20250916T012929Z
LAST-MODIFIED:20251001T031214Z
UID:9882-1759861800-1759867200@lifestylecollege.com.au
SUMMARY:2024 Class Electives - Week 1
DESCRIPTION:This will be the first session for the electives\, with the sessions devoted to devotions\, sharing\, guest speakers and practical applications of what has been learned in the course until now. Please remember that we will not be viewing videos at these sessions\, which is a departure from previous terms. Therefore you will be responsible for watching your videos independently\, with the view towards bringing any questions and discussion to the session to share if needed. \nGuest Speaker: Mark Luba\, Community Outreach Specialist\, Tri-County Human Services. \nBelow you will see the details for each elective as a reminder of which course and module to view during the week: \nNAT11088003 – Introduction to Pastoral Care \n\nUnit 7: Pastoral Care\nModule 1: What is Pastoral Care?\n\nBSBCMM411 – Speaking from the Platform  \n\nUnit 7: Platform\nModule 1: The purpose of Speaking in a ministry setting
URL:https://lifestylecollege.com.au/calendar/2024-class-electives-week-1/
LOCATION:Lifestyle College\, 2/83 Sun Valley Road\, Kin Kora\, QLD\, 4680\, Australia
CATEGORIES:Lecture
ORGANIZER;CN="Ps. Steve Luba":MAILTO:hello@lifestylecollege.com.au
END:VEVENT
BEGIN:VEVENT
DTSTART;TZID=Australia/Brisbane:20251007T080000
DTEND;TZID=Australia/Brisbane:20251007T090000
DTSTAMP:20260420T143336
CREATED:20250709T064016Z
LAST-MODIFIED:20250922T042956Z
UID:9760-1759824000-1759827600@lifestylecollege.com.au
SUMMARY:Term 4 Starts
DESCRIPTION:
URL:https://lifestylecollege.com.au/calendar/term-4-starts/
LOCATION:QLD
END:VEVENT
BEGIN:VEVENT
DTSTART;TZID=Australia/Brisbane:20251006T080000
DTEND;TZID=Australia/Brisbane:20251006T170000
DTSTAMP:20260420T143336
CREATED:20250709T063912Z
LAST-MODIFIED:20250709T063912Z
UID:9758-1759737600-1759770000@lifestylecollege.com.au
SUMMARY:King's Birthday Holiday
DESCRIPTION:
URL:https://lifestylecollege.com.au/calendar/kings-birthday-holiday/
LOCATION:QLD
ORGANIZER;CN="Ps. Steve Luba":MAILTO:hello@lifestylecollege.com.au
END:VEVENT
BEGIN:VEVENT
DTSTART;TZID=Australia/Brisbane:20251005T020000
DTEND;TZID=Australia/Brisbane:20251005T023000
DTSTAMP:20260420T143336
CREATED:20250922T043950Z
LAST-MODIFIED:20250922T043950Z
UID:9933-1759629600-1759631400@lifestylecollege.com.au
SUMMARY:Australian Eastern Daylight Time Begins
DESCRIPTION:On Sunday morning at 2:00am in the early morning of October 5\, clocks will move forward one hour in the following states and territories: \nACT \nNSW \nSouth Australia \nTasmania \nVictoria
URL:https://lifestylecollege.com.au/calendar/australian-eastern-daylight-time-begins/
LOCATION:QLD
CATEGORIES:Community
END:VEVENT
BEGIN:VEVENT
DTSTART;TZID=Australia/Brisbane:20250919T080000
DTEND;TZID=Australia/Brisbane:20250919T170000
DTSTAMP:20260420T143336
CREATED:20250709T053538Z
LAST-MODIFIED:20250709T053538Z
UID:9726-1758268800-1758301200@lifestylecollege.com.au
SUMMARY:Term 3 Ends
DESCRIPTION:
URL:https://lifestylecollege.com.au/calendar/term-3-ends/
LOCATION:Lifestyle College\, 2/83 Sun Valley Road\, Kin Kora\, QLD\, 4680\, Australia
ORGANIZER;CN="Ps. Steve Luba":MAILTO:hello@lifestylecollege.com.au
END:VEVENT
BEGIN:VEVENT
DTSTART;TZID=Australia/Brisbane:20250918T190000
DTEND;TZID=Australia/Brisbane:20250918T203000
DTSTAMP:20260420T143336
CREATED:20250709T062032Z
LAST-MODIFIED:20250720T055444Z
UID:9749-1758222000-1758227400@lifestylecollege.com.au
SUMMARY:Discipleship 1- 2025 Module 9
DESCRIPTION:NAT11088001 – Induct disciples into the central beliefs and practices of a church. \n\nUnit 3: Discipleship 1\nModule 9: Christian Hope
URL:https://lifestylecollege.com.au/calendar/discipleship-1-2025-module-9/
LOCATION:Lifestyle College\, 2/83 Sun Valley Road\, Kin Kora\, QLD\, 4680\, Australia
CATEGORIES:Lecture
ORGANIZER;CN="Ps. Steve Luba":MAILTO:hello@lifestylecollege.com.au
END:VEVENT
BEGIN:VEVENT
DTSTART;TZID=Australia/Brisbane:20250916T183000
DTEND;TZID=Australia/Brisbane:20250916T203000
DTSTAMP:20260420T143336
CREATED:20250709T053308Z
LAST-MODIFIED:20250720T054801Z
UID:9724-1758047400-1758054600@lifestylecollege.com.au
SUMMARY:Discipleship 2 - 2024 Module 9
DESCRIPTION:NAT11088002 – Disciple a church member \n\nUnit 6: Discipleship 2\nModule 9: Discipleship Continuum
URL:https://lifestylecollege.com.au/calendar/discipleship-2-2024-module-9/
LOCATION:Lifestyle College\, 2/83 Sun Valley Road\, Kin Kora\, QLD\, 4680\, Australia
CATEGORIES:Lecture
ORGANIZER;CN="Ps. Steve Luba":MAILTO:hello@lifestylecollege.com.au
END:VEVENT
BEGIN:VEVENT
DTSTART;TZID=Australia/Brisbane:20250915T080000
DTEND;TZID=Australia/Brisbane:20250915T233000
DTSTAMP:20260420T143336
CREATED:20250709T063324Z
LAST-MODIFIED:20250801T005920Z
UID:9753-1757923200-1757979000@lifestylecollege.com.au
SUMMARY:Discipleship 1 - 2025 (Assessment 2 Quiz Opens)
DESCRIPTION:Assessment 2 – Knowledge Quiz. \nOpens: Monday\, September 15 (start of Week 9) \nCloses: either 5 days after it is opened OR 11:55PM Friday October 10 (week 12)\, whichever comes first. \nYou will find access to the quiz under the Assessment tile in Moodle. \nYou will be given 3 attempts to score 100%. Failing to attain mark of 100% or higher will result in a Not Yet Satisfactory grade for this assessment.
URL:https://lifestylecollege.com.au/calendar/discipleship-1-2025-assessment-2/
LOCATION:QLD
CATEGORIES:Assessment
ORGANIZER;CN="Ps. Steve Luba":MAILTO:hello@lifestylecollege.com.au
END:VEVENT
BEGIN:VEVENT
DTSTART;TZID=Australia/Brisbane:20250911T190000
DTEND;TZID=Australia/Brisbane:20250911T203000
DTSTAMP:20260420T143336
CREATED:20250709T061831Z
LAST-MODIFIED:20250801T005726Z
UID:9747-1757617200-1757622600@lifestylecollege.com.au
SUMMARY:Discipleship 1- 2025 Discover Spiritual Gifts Session Module 8
DESCRIPTION:Discover Spiritual Gifts Session \nRather than our usual instructor videos\, we’ll be using this time to take everyone through the Lifestyle Church Discover Your Spiritual Gifts program for your Assessment. We will conduct the session over Zoom as usual and this will allow you to contribute/participate in the session in order to fulfil the requirement for your assessment. \nBe sure to watch the instructor videos for this module on your own and take good notes as the A2 quiz questions will come from the video content. \nNAT11088001 – Induct disciples into the central beliefs and practices of a church. \n\nUnit 3: Discipleship 1\nModule 8: Church Practices
URL:https://lifestylecollege.com.au/calendar/discipleship-1-2025-module-8/
LOCATION:Lifestyle College\, 2/83 Sun Valley Road\, Kin Kora\, QLD\, 4680\, Australia
CATEGORIES:Lecture
ORGANIZER;CN="Ps. Steve Luba":MAILTO:hello@lifestylecollege.com.au
END:VEVENT
BEGIN:VEVENT
DTSTART;TZID=Australia/Brisbane:20250909T183000
DTEND;TZID=Australia/Brisbane:20250909T203000
DTSTAMP:20260420T143336
CREATED:20250709T053107Z
LAST-MODIFIED:20250720T054734Z
UID:9722-1757442600-1757449800@lifestylecollege.com.au
SUMMARY:Discipleship 2 - 2024 Module 8
DESCRIPTION:NAT11088002 – Disciple a church member \n\nUnit 6: Discipleship 2\nModule 8: Evaluation
URL:https://lifestylecollege.com.au/calendar/discipleship-2-2024-module-8/
LOCATION:Lifestyle College\, 2/83 Sun Valley Road\, Kin Kora\, QLD\, 4680\, Australia
CATEGORIES:Lecture
ORGANIZER;CN="Ps. Steve Luba":MAILTO:hello@lifestylecollege.com.au
END:VEVENT
BEGIN:VEVENT
DTSTART;TZID=Australia/Brisbane:20250904T190000
DTEND;TZID=Australia/Brisbane:20250904T203000
DTSTAMP:20260420T143336
CREATED:20250709T061636Z
LAST-MODIFIED:20250801T005204Z
UID:9745-1757012400-1757017800@lifestylecollege.com.au
SUMMARY:Discipleship 1- 2025 Church Practices Video Session Module 7
DESCRIPTION:Church Practices Video Session \nRather than our usual instructor videos\, we’ll be using this time to record your video presentations for the Church Practices section for your Assessment. We will conduct the session over Zoom as usual and I will record your individual presentations on your phones or whatever device you would like to use. \nBe sure to watch the instructor videos for this module on your own and take good notes as the A2 quiz questions will come from the video content. \nNAT11088001 – Induct disciples into the central beliefs and practices of a church. \n\nUnit 3: Discipleship 1\nModule 7: The Church
URL:https://lifestylecollege.com.au/calendar/discipleship-1-2025-module-7/
LOCATION:Lifestyle College\, 2/83 Sun Valley Road\, Kin Kora\, QLD\, 4680\, Australia
CATEGORIES:Lecture
ORGANIZER;CN="Ps. Steve Luba":MAILTO:hello@lifestylecollege.com.au
END:VEVENT
BEGIN:VEVENT
DTSTART;TZID=Australia/Brisbane:20250902T183000
DTEND;TZID=Australia/Brisbane:20250902T203000
DTSTAMP:20260420T143336
CREATED:20250709T052905Z
LAST-MODIFIED:20250720T054708Z
UID:9720-1756837800-1756845000@lifestylecollege.com.au
SUMMARY:Discipleship 2 - 2024 Module 7
DESCRIPTION:NAT11088002 – Disciple a church member \n\nUnit 6: Discipleship 2\nModule 7: Modeling Faith
URL:https://lifestylecollege.com.au/calendar/discipleship-2-2024-module-7/
LOCATION:Lifestyle College\, 2/83 Sun Valley Road\, Kin Kora\, QLD\, 4680\, Australia
CATEGORIES:Lecture
ORGANIZER;CN="Ps. Steve Luba":MAILTO:hello@lifestylecollege.com.au
END:VEVENT
BEGIN:VEVENT
DTSTART;TZID=Australia/Brisbane:20250828T190000
DTEND;TZID=Australia/Brisbane:20250828T203000
DTSTAMP:20260420T143336
CREATED:20250709T061421Z
LAST-MODIFIED:20250720T055219Z
UID:9743-1756407600-1756413000@lifestylecollege.com.au
SUMMARY:Discipleship 1- 2025 Module 6
DESCRIPTION:NAT11088001 – Induct disciples into the central beliefs and practices of a church. \n\nUnit 3: Discipleship 1\nModule 6: The Holy Spirit
URL:https://lifestylecollege.com.au/calendar/discipleship-1-2025-module-6/
LOCATION:Lifestyle College\, 2/83 Sun Valley Road\, Kin Kora\, QLD\, 4680\, Australia
CATEGORIES:Lecture
ORGANIZER;CN="Ps. Steve Luba":MAILTO:hello@lifestylecollege.com.au
END:VEVENT
BEGIN:VEVENT
DTSTART;TZID=Australia/Brisbane:20250826T183000
DTEND;TZID=Australia/Brisbane:20250826T203000
DTSTAMP:20260420T143336
CREATED:20250709T052701Z
LAST-MODIFIED:20250720T054642Z
UID:9718-1756233000-1756240200@lifestylecollege.com.au
SUMMARY:Discipleship 2 - 2024 Module 6
DESCRIPTION:NAT11088002 – Disciple a church member \n\nUnit 6: Discipleship 2\nModule 6: Building Faith
URL:https://lifestylecollege.com.au/calendar/discipleship-2-2024-module-6/
LOCATION:Lifestyle College\, 2/83 Sun Valley Road\, Kin Kora\, QLD\, 4680\, Australia
CATEGORIES:Lecture
ORGANIZER;CN="Ps. Steve Luba":MAILTO:hello@lifestylecollege.com.au
END:VEVENT
BEGIN:VEVENT
DTSTART;TZID=Australia/Brisbane:20250821T190000
DTEND;TZID=Australia/Brisbane:20250821T203000
DTSTAMP:20260420T143336
CREATED:20250709T060710Z
LAST-MODIFIED:20250730T081120Z
UID:9741-1755802800-1755808200@lifestylecollege.com.au
SUMMARY:Discipleship 1- 2025 - Church Beliefs Video Session Module 5
DESCRIPTION:Church Beliefs Video Session \nRather than our usual instructor videos\, we’ll be using this time to record your video presentations for the Church Beliefs section for your Assessment. We will conduct the session over Zoom as usual and I will record your individual presentations on your phones or whatever device you would like to use. \nBe sure to watch the instructor videos for this module on your own and take good notes as the A2 quiz questions will come from the video content. \nNAT11088001 – Induct disciples into the central beliefs and practices of a church. \n\nUnit 3: Discipleship 1\nModule 5: Jesus
URL:https://lifestylecollege.com.au/calendar/discipleship-1-2025-module-5/
LOCATION:Lifestyle College\, 2/83 Sun Valley Road\, Kin Kora\, QLD\, 4680\, Australia
CATEGORIES:Lecture
ORGANIZER;CN="Ps. Steve Luba":MAILTO:hello@lifestylecollege.com.au
END:VEVENT
BEGIN:VEVENT
DTSTART;TZID=Australia/Brisbane:20250819T183000
DTEND;TZID=Australia/Brisbane:20250819T203000
DTSTAMP:20260420T143336
CREATED:20250709T052422Z
LAST-MODIFIED:20250720T054617Z
UID:9716-1755628200-1755635400@lifestylecollege.com.au
SUMMARY:Discipleship 2 - 2024 Module 5
DESCRIPTION:NAT11088002 – Disciple a church member \n\nUnit 6: Discipleship 2\nModule 5: Active Listening
URL:https://lifestylecollege.com.au/calendar/discipleship-2-2024-module-5/
LOCATION:Lifestyle College\, 2/83 Sun Valley Road\, Kin Kora\, QLD\, 4680\, Australia
CATEGORIES:Lecture
ORGANIZER;CN="Ps. Steve Luba":MAILTO:hello@lifestylecollege.com.au
END:VEVENT
BEGIN:VEVENT
DTSTART;TZID=Australia/Brisbane:20250816T100000
DTEND;TZID=Australia/Brisbane:20250816T130000
DTSTAMP:20260420T143336
CREATED:20250709T064718Z
LAST-MODIFIED:20250709T065141Z
UID:9764-1755338400-1755349200@lifestylecollege.com.au
SUMMARY:ACC Regional Meeting
DESCRIPTION:Regional Meeting of the Leadership from Central Queensland ACC Churches. \nTime: 10am (Morning Tea) followed by a 10:30am start. Lunch to follow (RSVP required for lunch) \nLocation: Next Level Church\, 59 Gladstone Rd.\, Biloela\, Qld 4715
URL:https://lifestylecollege.com.au/calendar/acc-regional-meeting-2/
LOCATION:Next Level Church\, 59 Gladstone Rd\, Biloela\, Qld\, 4715\, Australia
CATEGORIES:Meeting
END:VEVENT
BEGIN:VEVENT
DTSTART;TZID=Australia/Brisbane:20250814T190000
DTEND;TZID=Australia/Brisbane:20250814T203000
DTSTAMP:20260420T143336
CREATED:20250709T060511Z
LAST-MODIFIED:20250720T055131Z
UID:9739-1755198000-1755203400@lifestylecollege.com.au
SUMMARY:Discipleship 1- 2025 Module 4
DESCRIPTION:NAT11088001 – Induct disciples into the central beliefs and practices of a church. \n\nUnit 3: Discipleship 1\nModule 4: Our purpose\, God’s Plan
URL:https://lifestylecollege.com.au/calendar/discipleship-1-2025-module-4/
LOCATION:Lifestyle College\, 2/83 Sun Valley Road\, Kin Kora\, QLD\, 4680\, Australia
CATEGORIES:Lecture
ORGANIZER;CN="Ps. Steve Luba":MAILTO:hello@lifestylecollege.com.au
END:VEVENT
BEGIN:VEVENT
DTSTART;TZID=Australia/Brisbane:20250812T183000
DTEND;TZID=Australia/Brisbane:20250812T203000
DTSTAMP:20260420T143336
CREATED:20250709T052036Z
LAST-MODIFIED:20250720T054549Z
UID:9714-1755023400-1755030600@lifestylecollege.com.au
SUMMARY:Discipleship 2 - 2024 Module 4
DESCRIPTION:NAT11088002 – Disciple a church member \n\nUnit 6: Discipleship 2\nModule 4: Relationship Guidelines
URL:https://lifestylecollege.com.au/calendar/discipleship-2-2024-module-4/
LOCATION:Lifestyle College\, 2/83 Sun Valley Road\, Kin Kora\, QLD\, 4680\, Australia
CATEGORIES:Lecture
ORGANIZER;CN="Ps. Steve Luba":MAILTO:hello@lifestylecollege.com.au
END:VEVENT
BEGIN:VEVENT
DTSTART;TZID=Australia/Brisbane:20250811T080000
DTEND;TZID=Australia/Brisbane:20250811T170000
DTSTAMP:20260420T143336
CREATED:20250722T001326Z
LAST-MODIFIED:20250722T001326Z
UID:9768-1754899200-1754931600@lifestylecollege.com.au
SUMMARY:Gladstone Show Holiday
DESCRIPTION:
URL:https://lifestylecollege.com.au/calendar/gladstone-show-holiday/
LOCATION:QLD
CATEGORIES:Community
ORGANIZER;CN="Ps. Steve Luba":MAILTO:hello@lifestylecollege.com.au
END:VEVENT
BEGIN:VEVENT
DTSTART;TZID=Australia/Brisbane:20250808T230000
DTEND;TZID=Australia/Brisbane:20250808T233000
DTSTAMP:20260420T143336
CREATED:20250709T054420Z
LAST-MODIFIED:20250709T054420Z
UID:9728-1754694000-1754695800@lifestylecollege.com.au
SUMMARY:Discipleship 2 - 2024 (Assessment 1)
DESCRIPTION:Assessment 1 – Develop a plan to disciple another church member to enable growth over 8 weeks (about 2 months). \nDue Date: August 8 (Week 3) \nFind a person to disciple within your church\, then collaborate with them and develop a discipleship plan for at least 8 weeks (about 2 months). This must include at least four formal meetings (discussing the discipleship plan\, goals\, progress\, etc.) and at least two informal connections (phone calls\, text messages\, conversing in the foyer at church\, etc.) \nYou will need to obtain consent from the disciple to create a written record of the process throughout the term
URL:https://lifestylecollege.com.au/calendar/discipleship-2-2024-assessment-1/
LOCATION:QLD
CATEGORIES:Assessment
ORGANIZER;CN="Ps. Steve Luba":MAILTO:hello@lifestylecollege.com.au
END:VEVENT
BEGIN:VEVENT
DTSTART;TZID=Australia/Brisbane:20250807T190000
DTEND;TZID=Australia/Brisbane:20250807T203000
DTSTAMP:20260420T143336
CREATED:20250709T060300Z
LAST-MODIFIED:20250720T055105Z
UID:9737-1754593200-1754598600@lifestylecollege.com.au
SUMMARY:Discipleship 1- 2025 Module 3
DESCRIPTION:NAT11088001 – Induct disciples into the central beliefs and practices of a church. \n\nUnit 3: Discipleship 1\nModule 3: Knowing God
URL:https://lifestylecollege.com.au/calendar/discipleship-1-2025-module-3/
LOCATION:Lifestyle College\, 2/83 Sun Valley Road\, Kin Kora\, QLD\, 4680\, Australia
CATEGORIES:Lecture
ORGANIZER;CN="Ps. Steve Luba":MAILTO:hello@lifestylecollege.com.au
END:VEVENT
BEGIN:VEVENT
DTSTART;TZID=Australia/Brisbane:20250805T183000
DTEND;TZID=Australia/Brisbane:20250805T203000
DTSTAMP:20260420T143336
CREATED:20250709T051733Z
LAST-MODIFIED:20250720T054451Z
UID:9712-1754418600-1754425800@lifestylecollege.com.au
SUMMARY:Discipleship 2 - 2024 Module 3
DESCRIPTION:NAT11088002 – Disciple a church member \n\nUnit 6: Discipleship 2\nModule 3: Holy Spirit in Discipleship
URL:https://lifestylecollege.com.au/calendar/discipleship-2-2024-module-3/
LOCATION:Lifestyle College\, 2/83 Sun Valley Road\, Kin Kora\, QLD\, 4680\, Australia
CATEGORIES:Lecture
ORGANIZER;CN="Ps. Steve Luba":MAILTO:hello@lifestylecollege.com.au
END:VEVENT
BEGIN:VEVENT
DTSTART;TZID=Australia/Brisbane:20250731T190000
DTEND;TZID=Australia/Brisbane:20250731T203000
DTSTAMP:20260420T143336
CREATED:20250709T060025Z
LAST-MODIFIED:20250720T055034Z
UID:9735-1753988400-1753993800@lifestylecollege.com.au
SUMMARY:Discipleship 1- 2025 Module 2
DESCRIPTION:NAT11088001 – Induct disciples into the central beliefs and practices of a church. \n\nUnit 3: Discipleship 1\nModule 2: The Bible
URL:https://lifestylecollege.com.au/calendar/discipleship-1-2025-module-2/
LOCATION:Lifestyle College\, 2/83 Sun Valley Road\, Kin Kora\, QLD\, 4680\, Australia
CATEGORIES:Lecture
ORGANIZER;CN="Ps. Steve Luba":MAILTO:hello@lifestylecollege.com.au
END:VEVENT
BEGIN:VEVENT
DTSTART;TZID=Australia/Brisbane:20250731T080000
DTEND;TZID=Australia/Brisbane:20250731T083000
DTSTAMP:20260420T143336
CREATED:20250806T032814Z
LAST-MODIFIED:20250806T032814Z
UID:9841-1753948800-1753950600@lifestylecollege.com.au
SUMMARY:Discipleship 1 2025: Recording of Assessment Tutorial 1
DESCRIPTION:For Discipleship 1\, here is the link to the video recording from Assessor Judith Fisher for Tutorial 1 from Thursday 31 July\, for those who missed it. \nLink: Discipleship 1 welcome and assessment tutorial-20250731_201443-Meeting Recording.mp4
URL:https://lifestylecollege.com.au/calendar/discipleship-1-2025-recording-of-assessment-tutorial-1/
LOCATION:QLD
CATEGORIES:Meeting
ORGANIZER;CN="Ps. Steve Luba":MAILTO:hello@lifestylecollege.com.au
END:VEVENT
BEGIN:VEVENT
DTSTART;TZID=Australia/Brisbane:20250729T183000
DTEND;TZID=Australia/Brisbane:20250729T203000
DTSTAMP:20260420T143336
CREATED:20250709T051429Z
LAST-MODIFIED:20250720T054418Z
UID:9710-1753813800-1753821000@lifestylecollege.com.au
SUMMARY:Discipleship 2 - 2024 Module 2
DESCRIPTION:NAT11088002 – Disciple a church member \n\nUnit 6: Discipleship 2\nModule 2: Establishing a Discipleship Relationship
URL:https://lifestylecollege.com.au/calendar/discipleship-2-2024-module-2/
LOCATION:Lifestyle College\, 2/83 Sun Valley Road\, Kin Kora\, QLD\, 4680\, Australia
CATEGORIES:Lecture
ORGANIZER;CN="Ps. Steve Luba":MAILTO:hello@lifestylecollege.com.au
END:VEVENT
BEGIN:VEVENT
DTSTART;TZID=Australia/Brisbane:20250728T080000
DTEND;TZID=Australia/Brisbane:20250728T083000
DTSTAMP:20260420T143336
CREATED:20250804T005235Z
LAST-MODIFIED:20250804T005235Z
UID:9832-1753689600-1753691400@lifestylecollege.com.au
SUMMARY:Discipleship 2 2024: Recording of Assessment Tutorial 1
DESCRIPTION:For Discipleship 2\, here is the link to the video recording from Assessor Michael Godfrey for Tutorial 1 from Monday 28 July\, for those who missed it. \nLink: Watch the Tutorial Video
URL:https://lifestylecollege.com.au/calendar/discipleship-2-2024-recording-of-assessment-tutorial-1/
LOCATION:QLD
CATEGORIES:Meeting
ORGANIZER;CN="Ps. Steve Luba":MAILTO:hello@lifestylecollege.com.au
END:VEVENT
BEGIN:VEVENT
DTSTART;TZID=Australia/Brisbane:20250724T190000
DTEND;TZID=Australia/Brisbane:20250724T203000
DTSTAMP:20260420T143336
CREATED:20250709T055716Z
LAST-MODIFIED:20250720T054945Z
UID:9733-1753383600-1753389000@lifestylecollege.com.au
SUMMARY:Discipleship 1- 2025 Module 1
DESCRIPTION:NAT11088001 – Induct disciples into the central beliefs and practices of a church. \n\nUnit 3: Discipleship 1\nModule 1: Introduction to discipleship
URL:https://lifestylecollege.com.au/calendar/discipleship-1-2025-module-1/
LOCATION:Lifestyle College\, 2/83 Sun Valley Road\, Kin Kora\, QLD\, 4680\, Australia
CATEGORIES:Lecture
ORGANIZER;CN="Ps. Steve Luba":MAILTO:hello@lifestylecollege.com.au
END:VEVENT
END:VCALENDAR