BEGIN:VCALENDAR
VERSION:2.0
PRODID:-//Lifestyle College - ECPv6.15.17.1//NONSGML v1.0//EN
CALSCALE:GREGORIAN
METHOD:PUBLISH
X-WR-CALNAME:Lifestyle College
X-ORIGINAL-URL:https://lifestylecollege.com.au
X-WR-CALDESC:Events for Lifestyle College
REFRESH-INTERVAL;VALUE=DURATION:PT1H
X-Robots-Tag:noindex
X-PUBLISHED-TTL:PT1H
BEGIN:VTIMEZONE
TZID:Australia/Brisbane
BEGIN:STANDARD
TZOFFSETFROM:+1000
TZOFFSETTO:+1000
TZNAME:AEST
DTSTART:20240101T000000
END:STANDARD
END:VTIMEZONE
BEGIN:VEVENT
DTSTART;TZID=Australia/Brisbane:20251212T220000
DTEND;TZID=Australia/Brisbane:20251212T223000
DTSTAMP:20260420T120457
CREATED:20250922T053608Z
LAST-MODIFIED:20250922T054152Z
UID:9955-1765576800-1765578600@lifestylecollege.com.au
SUMMARY:Pastoral Care - 2024 (Assessment 2)
DESCRIPTION:Assessment 2 – Provision of care role play and reflection \nDue Date: Friday December 12 (Week 9) \nYou will be given 2 scenarios for which you must video record yourself role playing the provision of care using the skills you have learnt throughout the unit. On completion of your role play you must provide a reflection on how you could improve your provision of care in a real-life situation.
URL:https://lifestylecollege.com.au/calendar/pastoral-care-2024-assessment-2/
CATEGORIES:Assessment
ORGANIZER;CN="Ps. Steve Luba":MAILTO:hello@lifestylecollege.com.au
END:VEVENT
BEGIN:VEVENT
DTSTART;TZID=Australia/Brisbane:20251212T220000
DTEND;TZID=Australia/Brisbane:20251212T223000
DTSTAMP:20260420T120457
CREATED:20250922T052301Z
LAST-MODIFIED:20250922T052301Z
UID:9949-1765576800-1765578600@lifestylecollege.com.au
SUMMARY:Speaking from the Platform - 2024 (Assessment 2)
DESCRIPTION:Assessment 2: Prepare and present to a small group (5-15 min) of people different to Assessment 1 \nDue Date: Friday\, December 12 (Week 9) \nUsing the Assessment 2 Document provided under the assessment tile\,\nRevise\, Prepare\, Present\, Record a video and Evaluate the same Message as Assessment 1 to a different audience; \nMaking the changes required for the different context and audience requirements.
URL:https://lifestylecollege.com.au/calendar/speaking-from-the-platform-2024-assessment-2/
CATEGORIES:Assessment
ORGANIZER;CN="Ps. Steve Luba":MAILTO:hello@lifestylecollege.com.au
END:VEVENT
BEGIN:VEVENT
DTSTART;TZID=Australia/Brisbane:20251212T080000
DTEND;TZID=Australia/Brisbane:20251212T170000
DTSTAMP:20260420T120457
CREATED:20250919T015325Z
LAST-MODIFIED:20250922T050932Z
UID:9911-1765526400-1765558800@lifestylecollege.com.au
SUMMARY:Term 4 Ends
DESCRIPTION:
URL:https://lifestylecollege.com.au/calendar/term-4-ends/
LOCATION:Lifestyle College\, 2/83 Sun Valley Road\, Kin Kora\, QLD\, 4680\, Australia
ORGANIZER;CN="Ps. Steve Luba":MAILTO:hello@lifestylecollege.com.au
END:VEVENT
BEGIN:VEVENT
DTSTART;TZID=Australia/Brisbane:20251211T190000
DTEND;TZID=Australia/Brisbane:20251211T203000
DTSTAMP:20260420T120457
CREATED:20250919T014927Z
LAST-MODIFIED:20250919T014927Z
UID:9909-1765479600-1765485000@lifestylecollege.com.au
SUMMARY:Teamwork- 2025 Module 9
DESCRIPTION:BSBXTW301 – Work in a team \n\nUnit 4: Team Players and Teamwork\nModule 9: Summation
URL:https://lifestylecollege.com.au/calendar/teamwork-2025-module-9/
LOCATION:Lifestyle College\, 2/83 Sun Valley Road\, Kin Kora\, QLD\, 4680\, Australia
CATEGORIES:Lecture
ORGANIZER;CN="Ps. Steve Luba":MAILTO:hello@lifestylecollege.com.au
END:VEVENT
BEGIN:VEVENT
DTSTART;TZID=Australia/Brisbane:20251209T183000
DTEND;TZID=Australia/Brisbane:20251209T200000
DTSTAMP:20260420T120457
CREATED:20250922T050335Z
LAST-MODIFIED:20250922T050335Z
UID:9943-1765305000-1765310400@lifestylecollege.com.au
SUMMARY:2024 Class Electives - Week 9
DESCRIPTION:This will be the Week 9 and final session for the Term 4 electives\, with the sessions devoted to devotions\, sharing\, guest speakers and practical applications of what has been learned in the course until now. Since we will not be viewing videos at these sessions\, you will be responsible for watching your videos independently\, with the view towards bringing any questions and discussion to the session to share if needed. \nGuest Speaker: TBA \nBelow are the details for each elective as a reminder of which course and module to view during the week: \nNAT11088003 – Introduction to Pastoral Care \n\nUnit 7: Pastoral Care\nModule 9: Debriefing and Confidentiality\n\nBSBCMM411 – Speaking from the Platform  \n\nUnit 7: Platform\nModule 9: Evaluation and other types of speaking in Ministry
URL:https://lifestylecollege.com.au/calendar/2024-class-electives-week-9/
LOCATION:Lifestyle College\, 2/83 Sun Valley Road\, Kin Kora\, QLD\, 4680\, Australia
CATEGORIES:Lecture
ORGANIZER;CN="Ps. Steve Luba":MAILTO:hello@lifestylecollege.com.au
END:VEVENT
BEGIN:VEVENT
DTSTART;TZID=Australia/Brisbane:20251204T190000
DTEND;TZID=Australia/Brisbane:20251204T203000
DTSTAMP:20260420T120457
CREATED:20250919T014720Z
LAST-MODIFIED:20250919T014720Z
UID:9907-1764874800-1764880200@lifestylecollege.com.au
SUMMARY:Teamwork- 2025 Module 8
DESCRIPTION:BSBXTW301 – Work in a team \n\nUnit 4: Team Players and Teamwork\nModule 8: Motivation and Conflict
URL:https://lifestylecollege.com.au/calendar/teamwork-2025-module-8/
LOCATION:Lifestyle College\, 2/83 Sun Valley Road\, Kin Kora\, QLD\, 4680\, Australia
CATEGORIES:Lecture
ORGANIZER;CN="Ps. Steve Luba":MAILTO:hello@lifestylecollege.com.au
END:VEVENT
BEGIN:VEVENT
DTSTART;TZID=Australia/Brisbane:20251202T183000
DTEND;TZID=Australia/Brisbane:20251202T200000
DTSTAMP:20260420T120457
CREATED:20250922T045747Z
LAST-MODIFIED:20250922T045747Z
UID:9941-1764700200-1764705600@lifestylecollege.com.au
SUMMARY:2024 Class Electives - Week 8
DESCRIPTION:This will be the Week 8 session for the electives\, with the sessions devoted to devotions\, sharing\, guest speakers and practical applications of what has been learned in the course until now. Since we will not be viewing videos at these sessions\, you will be responsible for watching your videos independently\, with the view towards bringing any questions and discussion to the session to share if needed. \nGuest Speaker: TBA \nBelow are the details for each elective as a reminder of which course and module to view during the week: \nNAT11088003 – Introduction to Pastoral Care \n\nUnit 7: Pastoral Care\nModule 8: Referring and Reporting\n\nBSBCMM411 – Speaking from the Platform  \n\nUnit 7: Platform\nModule 8: Speaking in a service
URL:https://lifestylecollege.com.au/calendar/2024-class-electives-week-8/
LOCATION:Lifestyle College\, 2/83 Sun Valley Road\, Kin Kora\, QLD\, 4680\, Australia
CATEGORIES:Lecture
ORGANIZER;CN="Ps. Steve Luba":MAILTO:hello@lifestylecollege.com.au
END:VEVENT
BEGIN:VEVENT
DTSTART;TZID=Australia/Brisbane:20251127T190000
DTEND;TZID=Australia/Brisbane:20251127T203000
DTSTAMP:20260420T120457
CREATED:20250919T014521Z
LAST-MODIFIED:20250919T014521Z
UID:9905-1764270000-1764275400@lifestylecollege.com.au
SUMMARY:Teamwork- 2025 Module 7
DESCRIPTION:BSBXTW301 – Work in a team \n\nUnit 4: Team Players and Teamwork\nModule 7: Communication
URL:https://lifestylecollege.com.au/calendar/teamwork-2025-module-7/
LOCATION:Lifestyle College\, 2/83 Sun Valley Road\, Kin Kora\, QLD\, 4680\, Australia
CATEGORIES:Lecture
ORGANIZER;CN="Ps. Steve Luba":MAILTO:hello@lifestylecollege.com.au
END:VEVENT
BEGIN:VEVENT
DTSTART;TZID=Australia/Brisbane:20251125T183000
DTEND;TZID=Australia/Brisbane:20251125T200000
DTSTAMP:20260420T120457
CREATED:20250922T045001Z
LAST-MODIFIED:20251119T025356Z
UID:9939-1764095400-1764100800@lifestylecollege.com.au
SUMMARY:2024 Class Electives - Week 7
DESCRIPTION:This will be the Week 7 session for the electives\, with the sessions devoted to devotions\, sharing\, guest speakers and practical applications of what has been learned in the course until now. Since we will not be viewing videos at these sessions\, you will be responsible for watching your videos independently\, with the view towards bringing any questions and discussion to the session to share if needed. \nGuest Speaker: Worship Leader Extraordinaire Emiel Tea \nBelow are the details for each elective as a reminder of which course and module to view during the week: \nNAT11088003 – Introduction to Pastoral Care \n\nUnit 7: Pastoral Care\nModule 7: Grief and Loss\n\nBSBCMM411 – Speaking from the Platform  \n\nUnit 7: Platform\nModule 7: Practice and Planning
URL:https://lifestylecollege.com.au/calendar/2024-class-electives-week-7/
LOCATION:Lifestyle College\, 2/83 Sun Valley Road\, Kin Kora\, QLD\, 4680\, Australia
CATEGORIES:Lecture
ORGANIZER;CN="Ps. Steve Luba":MAILTO:hello@lifestylecollege.com.au
END:VEVENT
BEGIN:VEVENT
DTSTART;TZID=Australia/Brisbane:20251122T173000
DTEND;TZID=Australia/Brisbane:20251122T200000
DTSTAMP:20260420T120457
CREATED:20250922T041426Z
LAST-MODIFIED:20250922T041614Z
UID:9925-1763832600-1763841600@lifestylecollege.com.au
SUMMARY:ALL IN Team Night End of Year Celebration
DESCRIPTION:Save the date! The ALL IN Team Night is coming soon! This will include our end of year Team Celebration all in one!\n\nMD’s\, please ensure your team is aware of this special night!\n\nSenior Ps Aaron will also be joining us on this special night!\n\nMore details to follow.
URL:https://lifestylecollege.com.au/calendar/all-in-team-night-end-of-year-celebration/
LOCATION:Lifestyle Church\, 2/83 Sun Valley Rd\, Kin Kora\, Qld\, 4680
CATEGORIES:Meeting
END:VEVENT
BEGIN:VEVENT
DTSTART;TZID=Australia/Brisbane:20251121T230000
DTEND;TZID=Australia/Brisbane:20251121T233000
DTSTAMP:20260420T120457
CREATED:20250919T020617Z
LAST-MODIFIED:20250919T020618Z
UID:9919-1763766000-1763767800@lifestylecollege.com.au
SUMMARY:Teamwork - 2025 (Assessment 3)
DESCRIPTION:Assessment 3: Using resources from your church\, create a communication policy document for your team \nDue Date: Friday November 21 (Week 6) \nResearch your churches policies and procedures\, then develop a policies and procedures guide for communication in your team
URL:https://lifestylecollege.com.au/calendar/teamwork-2025-assessment-3/
CATEGORIES:Assessment
ORGANIZER;CN="Ps. Steve Luba":MAILTO:hello@lifestylecollege.com.au
END:VEVENT
BEGIN:VEVENT
DTSTART;TZID=Australia/Brisbane:20251120T190000
DTEND;TZID=Australia/Brisbane:20251120T203000
DTSTAMP:20260420T120457
CREATED:20250919T014324Z
LAST-MODIFIED:20250919T014324Z
UID:9903-1763665200-1763670600@lifestylecollege.com.au
SUMMARY:Teamwork- 2025 Module 6
DESCRIPTION:BSBXTW301 – Work in a team \n\nUnit 4: Team Players and Teamwork\nModule 6: Feedback and Reporting
URL:https://lifestylecollege.com.au/calendar/teamwork-2025-module-6/
LOCATION:Lifestyle College\, 2/83 Sun Valley Road\, Kin Kora\, QLD\, 4680\, Australia
CATEGORIES:Lecture
ORGANIZER;CN="Ps. Steve Luba":MAILTO:hello@lifestylecollege.com.au
END:VEVENT
BEGIN:VEVENT
DTSTART;TZID=Australia/Brisbane:20251118T183000
DTEND;TZID=Australia/Brisbane:20251118T200000
DTSTAMP:20260420T120457
CREATED:20250922T044659Z
LAST-MODIFIED:20251119T025314Z
UID:9937-1763490600-1763496000@lifestylecollege.com.au
SUMMARY:2024 Class Electives - Week 6
DESCRIPTION:This will be the Week 6 session for the electives\, with the sessions devoted to devotions\, sharing\, guest speakers and practical applications of what has been learned in the course until now. Since we will not be viewing videos at these sessions\, you will be responsible for watching your videos independently\, with the view towards bringing any questions and discussion to the session to share if needed. \nBelow are the details for each elective as a reminder of which course and module to view during the week: \nNAT11088003 – Introduction to Pastoral Care \n\nUnit 7: Pastoral Care\nModule 6: Responding to spiritual questions\n\nBSBCMM411 – Speaking from the Platform  \n\nUnit 7: Platform\nModule 6: Speech Structure
URL:https://lifestylecollege.com.au/calendar/2024-class-electives-week-6/
LOCATION:Lifestyle College\, 2/83 Sun Valley Road\, Kin Kora\, QLD\, 4680\, Australia
CATEGORIES:Lecture
ORGANIZER;CN="Ps. Steve Luba":MAILTO:hello@lifestylecollege.com.au
END:VEVENT
BEGIN:VEVENT
DTSTART;TZID=Australia/Brisbane:20251114T220000
DTEND;TZID=Australia/Brisbane:20251114T223000
DTSTAMP:20260420T120457
CREATED:20250922T051912Z
LAST-MODIFIED:20250922T051912Z
UID:9947-1763157600-1763159400@lifestylecollege.com.au
SUMMARY:Speaking from the Platform - 2024 (Assessment 1)
DESCRIPTION:Assessment 1 – Prepare and present a speech to a group of friends/mentors/class (5-15 min). \nDue Date: Friday November 14 (Week 5) \nUsing the Assessment 1 Document\, \nPresent to a group of at least 2 familiar people and obtain feedback from them afterwards. \n(You will present it again in A2\, so make sure it is a message you can develop and research in greater depth.)
URL:https://lifestylecollege.com.au/calendar/speaking-from-the-platform-2024-assessment-1/
CATEGORIES:Assessment
ORGANIZER;CN="Ps. Steve Luba":MAILTO:hello@lifestylecollege.com.au
END:VEVENT
BEGIN:VEVENT
DTSTART;TZID=Australia/Brisbane:20251113T190000
DTEND;TZID=Australia/Brisbane:20251113T203000
DTSTAMP:20260420T120457
CREATED:20250919T014100Z
LAST-MODIFIED:20250919T014100Z
UID:9901-1763060400-1763065800@lifestylecollege.com.au
SUMMARY:Teamwork- 2025 Module 5
DESCRIPTION:BSBXTW301 – Work in a team \n\nUnit 4: Team Players and Teamwork\nModule 5: Time Management and Boundaries
URL:https://lifestylecollege.com.au/calendar/teamwork-2025-module-5/
LOCATION:Lifestyle College\, 2/83 Sun Valley Road\, Kin Kora\, QLD\, 4680\, Australia
CATEGORIES:Lecture
ORGANIZER;CN="Ps. Steve Luba":MAILTO:hello@lifestylecollege.com.au
END:VEVENT
BEGIN:VEVENT
DTSTART;TZID=Australia/Brisbane:20251111T183000
DTEND;TZID=Australia/Brisbane:20251111T203000
DTSTAMP:20260420T120457
CREATED:20250922T044402Z
LAST-MODIFIED:20251002T235541Z
UID:9935-1762885800-1762893000@lifestylecollege.com.au
SUMMARY:2024 Class Electives - Week 5
DESCRIPTION:This will be the Week 5 session for the electives\, with the sessions devoted to devotions\, sharing\, guest speakers and practical applications of what has been learned in the course until now. Since we will not be viewing videos at these sessions\, you will be responsible for watching your videos independently\, with the view towards bringing any questions and discussion to the session to share if needed. \nGuest Speaker: Ps Leigh Gunter \nBelow are the details for each elective as a reminder of which course and module to view during the week: \nNAT11088003 – Introduction to Pastoral Care \n\nUnit 7: Pastoral Care\nModule 5: Active Listening\n\nBSBCMM411 – Speaking from the Platform  \n\nUnit 7: Platform\nModule 5: Skills for presenting 2
URL:https://lifestylecollege.com.au/calendar/2024-class-electives-week-5/
LOCATION:Lifestyle College\, 2/83 Sun Valley Road\, Kin Kora\, QLD\, 4680\, Australia
CATEGORIES:Lecture
ORGANIZER;CN="Ps. Steve Luba":MAILTO:hello@lifestylecollege.com.au
END:VEVENT
BEGIN:VEVENT
DTSTART;TZID=Australia/Brisbane:20251108T100000
DTEND;TZID=Australia/Brisbane:20251108T130000
DTSTAMP:20260420T120457
CREATED:20250919T021131Z
LAST-MODIFIED:20251008T232838Z
UID:9921-1762596000-1762606800@lifestylecollege.com.au
SUMMARY:ACC Regional Meeting
DESCRIPTION:Regional Meeting of the Leadership from Central Queensland ACC Churches. \nTime: 10am (Morning Tea) followed by a 10:30am start. Lunch to follow (RSVP required for lunch) \nLocation: Northside Church\, 80 Thorn St\, Berserker (Rockhampton) Qld \nGuest Speaker: ACC State President Ben Naitoko
URL:https://lifestylecollege.com.au/calendar/acc-regional-meeting-3/
LOCATION:Northside Church\, 80 Thorn St\, Berserker\, Queensland\, 4701\, Australia
CATEGORIES:Meeting
END:VEVENT
BEGIN:VEVENT
DTSTART;TZID=Australia/Brisbane:20251106T190000
DTEND;TZID=Australia/Brisbane:20251106T203000
DTSTAMP:20260420T120457
CREATED:20250919T013844Z
LAST-MODIFIED:20250919T013844Z
UID:9899-1762455600-1762461000@lifestylecollege.com.au
SUMMARY:Teamwork- 2025 Module 4
DESCRIPTION:BSBXTW301 – Work in a team \n\nUnit 4: Team Players and Teamwork\nModule 4: Contributing to the Plan
URL:https://lifestylecollege.com.au/calendar/teamwork-2025-module-4/
LOCATION:Lifestyle College\, 2/83 Sun Valley Road\, Kin Kora\, QLD\, 4680\, Australia
CATEGORIES:Lecture
ORGANIZER;CN="Ps. Steve Luba":MAILTO:hello@lifestylecollege.com.au
END:VEVENT
BEGIN:VEVENT
DTSTART;TZID=Australia/Brisbane:20251104T183000
DTEND;TZID=Australia/Brisbane:20251104T200000
DTSTAMP:20260420T120457
CREATED:20250922T043354Z
LAST-MODIFIED:20251017T025003Z
UID:9931-1762281000-1762286400@lifestylecollege.com.au
SUMMARY:2024 Class Electives - Week 4
DESCRIPTION:This will be the Week 4 session for the electives\, with the sessions devoted to devotions\, sharing\, guest speakers and practical applications of what has been learned in the course until now. Since we will not be viewing videos at these sessions\, you will be responsible for watching your videos independently\, with the view towards bringing any questions and discussion to the session to share if needed. \nGuest Speaker: Ps Leon & Vanessa Druce \nBelow are the details for each elective as a reminder of which course and module to view during the week: \nNAT11088003 – Introduction to Pastoral Care \n\nUnit 7: Pastoral Care\nModule 4: Boundaries and Context\n\nBSBCMM411 – Speaking from the Platform  \n\nUnit 7: Platform\nModule 4: Skills for presenting 1
URL:https://lifestylecollege.com.au/calendar/2024-class-electives-week-4/
LOCATION:Lifestyle College\, 2/83 Sun Valley Road\, Kin Kora\, QLD\, 4680\, Australia
CATEGORIES:Lecture
ORGANIZER;CN="Ps. Steve Luba":MAILTO:hello@lifestylecollege.com.au
END:VEVENT
BEGIN:VEVENT
DTSTART;TZID=Australia/Brisbane:20251031T230000
DTEND;TZID=Australia/Brisbane:20251031T233000
DTSTAMP:20260420T120457
CREATED:20250919T015838Z
LAST-MODIFIED:20250919T015838Z
UID:9915-1761951600-1761953400@lifestylecollege.com.au
SUMMARY:Teamwork - 2025 (Assessment 1)
DESCRIPTION:Assessment 1: Understand your team \nDue Date: Friday October 31 (Week 3) \nUsing the assessment instructions found under the assessment tile: \n\nIdentify and describe your team and its role within the church.\nIdentify and describe your own role within the team
URL:https://lifestylecollege.com.au/calendar/teamwork-2025-assessment-1/
CATEGORIES:Assessment
ORGANIZER;CN="Ps. Steve Luba":MAILTO:hello@lifestylecollege.com.au
END:VEVENT
BEGIN:VEVENT
DTSTART;TZID=Australia/Brisbane:20251031T220000
DTEND;TZID=Australia/Brisbane:20251031T223000
DTSTAMP:20260420T120457
CREATED:20250922T053407Z
LAST-MODIFIED:20250922T053407Z
UID:9953-1761948000-1761949800@lifestylecollege.com.au
SUMMARY:Pastoral Care - 2024 (Assessment 1)
DESCRIPTION:Assessment 1 – Plan to undertake self-care \nDue Date: Friday October 31 (Week 3) \nWith the help of a leader within the church who has experience in pastoral care\, develop a 6-week plan to meet three self-care goals throughout the term.
URL:https://lifestylecollege.com.au/calendar/pastoral-care-2024-assessment-1/
CATEGORIES:Assessment
ORGANIZER;CN="Ps. Steve Luba":MAILTO:hello@lifestylecollege.com.au
END:VEVENT
BEGIN:VEVENT
DTSTART;TZID=Australia/Brisbane:20251030T190000
DTEND;TZID=Australia/Brisbane:20251030T203000
DTSTAMP:20260420T120457
CREATED:20250919T013619Z
LAST-MODIFIED:20250919T013619Z
UID:9897-1761850800-1761856200@lifestylecollege.com.au
SUMMARY:Teamwork- 2025 Module 3
DESCRIPTION:BSBXTW301 – Work in a team \n\nUnit 4: Team Players and Teamwork\nModule 3: Systems\, Responsibilities\, and Culture
URL:https://lifestylecollege.com.au/calendar/teamwork-2025-module-3/
LOCATION:Lifestyle College\, 2/83 Sun Valley Road\, Kin Kora\, QLD\, 4680\, Australia
CATEGORIES:Lecture
ORGANIZER;CN="Ps. Steve Luba":MAILTO:hello@lifestylecollege.com.au
END:VEVENT
BEGIN:VEVENT
DTSTART;TZID=Australia/Brisbane:20251028T183000
DTEND;TZID=Australia/Brisbane:20251028T200000
DTSTAMP:20260420T120457
CREATED:20250922T042844Z
LAST-MODIFIED:20251002T235406Z
UID:9929-1761676200-1761681600@lifestylecollege.com.au
SUMMARY:2024 Class Electives - Week 3
DESCRIPTION:This will be the Week 3 session for the electives\, with the sessions devoted to devotions\, sharing\, guest speakers and practical applications of what has been learned in the course until now. Since we will not be viewing videos at these sessions\, you will be responsible for watching your videos independently\, with the view towards bringing any questions and discussion to the session to share if needed. \nGuest Speaker: Ps Dan Gunter \nBelow are the details for each elective as a reminder of which course and module to view during the week: \nNAT11088003 – Introduction to Pastoral Care \n\nUnit 7: Pastoral Care\nModule 3: Legislation\n\nBSBCMM411 – Speaking from the Platform  \n\nUnit 7: Platform\nModule 3: Preparing your topic
URL:https://lifestylecollege.com.au/calendar/2024-class-electives-week-3/
LOCATION:Lifestyle College\, 2/83 Sun Valley Road\, Kin Kora\, QLD\, 4680\, Australia
CATEGORIES:Lecture
ORGANIZER;CN="Ps. Steve Luba":MAILTO:hello@lifestylecollege.com.au
END:VEVENT
BEGIN:VEVENT
DTSTART;TZID=Australia/Brisbane:20251025T090000
DTEND;TZID=Australia/Brisbane:20251025T160000
DTSTAMP:20260420T120457
CREATED:20250922T041135Z
LAST-MODIFIED:20250922T041721Z
UID:9923-1761382800-1761408000@lifestylecollege.com.au
SUMMARY:GLS Global Leadership Summit Leadership Day
DESCRIPTION:Saturday\, 25th October 2025\, we will be hosting the Global Leadership Summit (GLS) Leadership Day with Ps Dan Gunter in the Auditorium from 9:00 AM to 4:00 PM.\n\n-We have 25 spots available for MD’s / 2IC’s & CG Leaders –\n\nThis dynamic one-day conference is designed to inspire and equip leaders with practical tools and fresh insights to lead with lasting influence.\n\n Date: Saturday\, 25th October 2025 Time: 9:00 AM – 4:00 PM Location: Lifestyle Church Auditorium\n\nStay tuned for more details and registration information coming soon. In the meantime\, mark your calendars!
URL:https://lifestylecollege.com.au/calendar/gls-global-leadership-summit-leadership-day/
LOCATION:Lifestyle Church\, 2/83 Sun Valley Rd\, Kin Kora\, Qld\, 4680
CATEGORIES:Meeting
END:VEVENT
BEGIN:VEVENT
DTSTART;TZID=Australia/Brisbane:20251023T190000
DTEND;TZID=Australia/Brisbane:20251023T203000
DTSTAMP:20260420T120457
CREATED:20250919T013046Z
LAST-MODIFIED:20250919T013145Z
UID:9895-1761246000-1761251400@lifestylecollege.com.au
SUMMARY:Teamwork- 2025 Module 2
DESCRIPTION:BSBXTW301 – Work in a team \n\nUnit 4: Team Players and Teamwork\nModule 2: The “Why” Behind the “What”
URL:https://lifestylecollege.com.au/calendar/teamwork-2025-module-2/
LOCATION:Lifestyle College\, 2/83 Sun Valley Road\, Kin Kora\, QLD\, 4680\, Australia
CATEGORIES:Lecture
ORGANIZER;CN="Ps. Steve Luba":MAILTO:hello@lifestylecollege.com.au
END:VEVENT
BEGIN:VEVENT
DTSTART;TZID=Australia/Brisbane:20251022T183000
DTEND;TZID=Australia/Brisbane:20251022T193000
DTSTAMP:20260420T120457
CREATED:20251019T081215Z
LAST-MODIFIED:20251019T081215Z
UID:9992-1761157800-1761161400@lifestylecollege.com.au
SUMMARY:Teamwork 2025 - Video Call with Assessor Domingo
DESCRIPTION:For Teamwork\, here is the link to the video call with Assessor Domingo Galang which will begin at 6:30pm Queensland time. \nhttps://teams.microsoft.com/dl/launcher/launcher.html?url=%2F_%23%2Fl%2Fmeetup-join%2F19%3Ameeting_NjU2Njc2NzQtZGQzNS00NDI4LWJiMGUtMWY0NDVmMjNkYThk%40thread.v2%2F0%3Fcontext%3D%257b%2522Tid%2522%253a%2522ea7a9cb8-3293-43bf-b9c6-66a611ad642d%2522%252c%2522Oid%2522%253a%25221b644f0c-8c4b-4b22-afeb-810ac904c41f%2522%257d%26anon%3Dtrue&type=meetup-join&deeplinkId=487101d0-7bb9-49e8-996d-cfa7af078914&directDl=true&msLaunch=true&enableMobilePage=true&suppressPrompt=true
URL:https://lifestylecollege.com.au/calendar/teamwork-2025-video-call-with-assessor-domingo/
CATEGORIES:Meeting
ORGANIZER;CN="Ps. Steve Luba":MAILTO:hello@lifestylecollege.com.au
END:VEVENT
BEGIN:VEVENT
DTSTART;TZID=Australia/Brisbane:20251021T183000
DTEND;TZID=Australia/Brisbane:20251021T200000
DTSTAMP:20260420T120457
CREATED:20250922T042547Z
LAST-MODIFIED:20250922T042547Z
UID:9927-1761071400-1761076800@lifestylecollege.com.au
SUMMARY:2024 Class Electives - Week 2
DESCRIPTION:This will be the Week 2 session for the electives\, with the sessions devoted to devotions\, sharing\, guest speakers and practical applications of what has been learned in the course until now. Since we will not be viewing videos at these sessions\, you will be responsible for watching your videos independently\, with the view towards bringing any questions and discussion to the session to share if needed. \nGuest Speaker: Ps Aaron Bachmann \nBelow are the details for each elective as a reminder of which course and module to view during the week: \nNAT11088003 – Introduction to Pastoral Care \n\nUnit 7: Pastoral Care\nModule 2: Self-care\n\nBSBCMM411 – Speaking from the Platform  \n\nUnit 7: Platform\nModule 2: Your voice as an instrument
URL:https://lifestylecollege.com.au/calendar/2024-class-electives-week-2/
LOCATION:Lifestyle College\, 2/83 Sun Valley Road\, Kin Kora\, QLD\, 4680\, Australia
CATEGORIES:Lecture
ORGANIZER;CN="Ps. Steve Luba":MAILTO:hello@lifestylecollege.com.au
END:VEVENT
BEGIN:VEVENT
DTSTART;TZID=Australia/Brisbane:20251013T080000
DTEND;TZID=Australia/Brisbane:20251016T170000
DTSTAMP:20260420T120457
CREATED:20250709T064202Z
LAST-MODIFIED:20250709T064202Z
UID:9762-1760342400-1760634000@lifestylecollege.com.au
SUMMARY:ACC State Conference
DESCRIPTION:
URL:https://lifestylecollege.com.au/calendar/acc-state-conference/
ORGANIZER;CN="Ps. Steve Luba":MAILTO:hello@lifestylecollege.com.au
END:VEVENT
BEGIN:VEVENT
DTSTART;TZID=Australia/Brisbane:20251010T230000
DTEND;TZID=Australia/Brisbane:20251010T233000
DTSTAMP:20260420T120457
CREATED:20250709T062825Z
LAST-MODIFIED:20250709T062825Z
UID:9751-1760137200-1760139000@lifestylecollege.com.au
SUMMARY:Discipleship 1 - 2025 (Assessment 1)
DESCRIPTION:Assessment 1 – Disciple others into the foundational beliefs\, practices and ministry of their church. \nDue Date: October 10 (Week 12) \nThis assessment could be complex and so students should begin working on it as early as possible. \nUse the Assessment 1 Assessment Document to Disciple others into the foundational beliefs\, practices and ministry of their church.
URL:https://lifestylecollege.com.au/calendar/discipleship-1-2025-assessment-1/
CATEGORIES:Assessment
ORGANIZER;CN="Ps. Steve Luba":MAILTO:hello@lifestylecollege.com.au
END:VEVENT
BEGIN:VEVENT
DTSTART;TZID=Australia/Brisbane:20251010T230000
DTEND;TZID=Australia/Brisbane:20251010T233000
DTSTAMP:20260420T120457
CREATED:20250709T054956Z
LAST-MODIFIED:20250709T054956Z
UID:9731-1760137200-1760139000@lifestylecollege.com.au
SUMMARY:Discipleship 2 - 2024 (Assessment 2)
DESCRIPTION:Assessment 2 – Disciple a church member for 8 weeks. \nDue Date: October 10 (Week 12) \nFollow the discipleship plan from Assessment 1 over 8 weeks (about 2 months)\, keeping a log of your own progress and the process of discipleship. \nThe person you disciple will need to fill out an evaluation at the end of the time so please make sure they are aware of this before they begin.
URL:https://lifestylecollege.com.au/calendar/discipleship-2-2024-assessment-2/
CATEGORIES:Assessment
ORGANIZER;CN="Ps. Steve Luba":MAILTO:hello@lifestylecollege.com.au
END:VEVENT
END:VCALENDAR