BEGIN:VCALENDAR
VERSION:2.0
PRODID:-//Lifestyle College - ECPv6.15.17.1//NONSGML v1.0//EN
CALSCALE:GREGORIAN
METHOD:PUBLISH
X-ORIGINAL-URL:https://lifestylecollege.com.au
X-WR-CALDESC:Events for Lifestyle College
REFRESH-INTERVAL;VALUE=DURATION:PT1H
X-Robots-Tag:noindex
X-PUBLISHED-TTL:PT1H
BEGIN:VTIMEZONE
TZID:Australia/Brisbane
BEGIN:STANDARD
TZOFFSETFROM:+1000
TZOFFSETTO:+1000
TZNAME:AEST
DTSTART:20250101T000000
END:STANDARD
END:VTIMEZONE
BEGIN:VEVENT
DTSTART;TZID=Australia/Brisbane:20260403T180000
DTEND;TZID=Australia/Brisbane:20260403T190000
DTSTAMP:20260420T143459
CREATED:20260316T075522Z
LAST-MODIFIED:20260316T075731Z
UID:10392-1775239200-1775242800@lifestylecollege.com.au
SUMMARY:Gladstone Combined Churches Prayer Vigil
DESCRIPTION:Each year the churches of Gladstone get together to pray during Good Friday\, with groups from each church taking turns to pray over a 12 hour period. \nThis year\, Lifestyle Church has the honor of starting off the evening with prayer\, taking the 6:00pm-7:00pm time slot. Members can gather and pray for the city\, nation and whatever topic the Holy Spirit lays on your heart. It is a wonderful time of unity in the Gladstone Body of Christ as we intercede on behalf of our city. \nThe event will be held at the Auckland Hill Overlook in the pavilion area overlooking the cafe. \nWe hope you can make it and look forward to a powerful time of prayer.
URL:https://lifestylecollege.com.au/calendar/gladstone-combined-churches-prayer-vigil/
LOCATION:Auckland Hill Overlook\, Bishops Dr\, Gladstone Central\, Queensland\, 4680\, Australia
CATEGORIES:Social
END:VEVENT
BEGIN:VEVENT
DTSTART;TZID=Australia/Brisbane:20260405T080000
DTEND;TZID=Australia/Brisbane:20260405T170000
DTSTAMP:20260420T143459
CREATED:20260108T003746Z
LAST-MODIFIED:20260108T003746Z
UID:10050-1775376000-1775408400@lifestylecollege.com.au
SUMMARY:Resurrection Sunday
DESCRIPTION:
URL:https://lifestylecollege.com.au/calendar/resurrection-sunday/
END:VEVENT
BEGIN:VEVENT
DTSTART;TZID=Australia/Brisbane:20260406T080000
DTEND;TZID=Australia/Brisbane:20260406T170000
DTSTAMP:20260420T143459
CREATED:20260108T003812Z
LAST-MODIFIED:20260108T003812Z
UID:10052-1775462400-1775494800@lifestylecollege.com.au
SUMMARY:Easter Monday
DESCRIPTION:
URL:https://lifestylecollege.com.au/calendar/easter-monday/
END:VEVENT
BEGIN:VEVENT
DTSTART;TZID=Australia/Brisbane:20260409T080000
DTEND;TZID=Australia/Brisbane:20260412T170000
DTSTAMP:20260420T143459
CREATED:20250922T051125Z
LAST-MODIFIED:20260115T040459Z
UID:9945-1775721600-1776013200@lifestylecollege.com.au
SUMMARY:Ps Steve on Holidays
DESCRIPTION:
URL:https://lifestylecollege.com.au/calendar/ps-steve-on-holidays-2/
END:VEVENT
BEGIN:VEVENT
DTSTART;TZID=Australia/Brisbane:20260410T220000
DTEND;TZID=Australia/Brisbane:20260410T223000
DTSTAMP:20260420T143459
CREATED:20260113T073958Z
LAST-MODIFIED:20260113T073958Z
UID:10121-1775858400-1775860200@lifestylecollege.com.au
SUMMARY:Applying The Bible - 2025 (Assessment 4)
DESCRIPTION:Assessment 4 – Develop a New Testament devotion \nDue Date: April 10 (Week 11) \nUse interpretive methods to interpret a New Testament passage from which you develop a brief devotional message for a small group which shows them how they can apply/respond to the passage in their life.
URL:https://lifestylecollege.com.au/calendar/applying-the-bible-2025-assessment-4/
CATEGORIES:Assessment
ORGANIZER;CN="Ps. Steve Luba":MAILTO:hello@lifestylecollege.com.au
END:VEVENT
BEGIN:VEVENT
DTSTART;TZID=Australia/Brisbane:20260410T230000
DTEND;TZID=Australia/Brisbane:20260410T233000
DTSTAMP:20260420T143459
CREATED:20260114T060928Z
LAST-MODIFIED:20260114T060928Z
UID:10130-1775862000-1775863800@lifestylecollege.com.au
SUMMARY:Personal Leadership 2026 - Assessment 2
DESCRIPTION:Assessment 2: Growth and Development \nDue Date: April 10 (Week 11) \nFollow the assessment method and use the assessment documents located under the assessment tile to review and evaluate your growth over the term.
URL:https://lifestylecollege.com.au/calendar/personal-leadership-2026-assessment-2/
CATEGORIES:Assessment
ORGANIZER;CN="Ps. Steve Luba":MAILTO:hello@lifestylecollege.com.au
END:VEVENT
BEGIN:VEVENT
DTSTART;TZID=Australia/Brisbane:20260410T230000
DTEND;TZID=Australia/Brisbane:20260410T233000
DTSTAMP:20260420T143459
CREATED:20260115T040247Z
LAST-MODIFIED:20260115T040247Z
UID:10141-1775862000-1775863800@lifestylecollege.com.au
SUMMARY:Speaking from the Platform - 2024 (Assessment 3)
DESCRIPTION:Assessment 3: Prepare and present a new presentation to a group (5-15 min) of different people \nDue Date: Friday\, April 10 (Week 11) \nPrepare\, Present\, Record a video and Evaluate one of the following Ministry Message types.  \n\nCommunion\,\nDevotion\,\nAltar Call\nTithe Message.\n\nYour presentation’s topic and type must be different from that of assessments 1 and 2 and must be presented to a different audience.
URL:https://lifestylecollege.com.au/calendar/speaking-from-the-platform-2024-assessment-3-2/
CATEGORIES:Assessment
ORGANIZER;CN="Ps. Steve Luba":MAILTO:hello@lifestylecollege.com.au
END:VEVENT
BEGIN:VEVENT
DTSTART;TZID=Australia/Brisbane:20260410T230000
DTEND;TZID=Australia/Brisbane:20260410T233000
DTSTAMP:20260420T143459
CREATED:20260117T063712Z
LAST-MODIFIED:20260117T063712Z
UID:10148-1775862000-1775863800@lifestylecollege.com.au
SUMMARY:Leading Teams 2024 - Assessment 3
DESCRIPTION:Assessment 3 – Execute your plan and evaluate your performance\nDue Date: Friday April 10 (Week 11) \nExecute your team plan from Assessment 1\, incorporating input from your team. Record your progress in a logbook and evaluate your performance.
URL:https://lifestylecollege.com.au/calendar/leading-teams-2024-assessment-3/
CATEGORIES:Assessment
ORGANIZER;CN="Ps. Steve Luba":MAILTO:hello@lifestylecollege.com.au
END:VEVENT
BEGIN:VEVENT
DTSTART;TZID=Australia/Brisbane:20260410T230000
DTEND;TZID=Australia/Brisbane:20260410T233000
DTSTAMP:20260420T143459
CREATED:20260117T064543Z
LAST-MODIFIED:20260117T064543Z
UID:10154-1775862000-1775863800@lifestylecollege.com.au
SUMMARY:Pastoral Care 2024 - Assessment 3
DESCRIPTION:Assessment 3 – Care for self and others in ministry \nDue Date: Friday April 10 (Week 11)  \n\nExecute your self-care plan and record your progress in a journal throughout the term.\nProvide a basic level of care to those you engage with within your church community throughout the term\, using the skills you have learnt in this unit. Log and reflect on your provision of care.\nAt the end of the term\, debrief with a leader in your church who has experience in pastoral care about your self-care and care throughout the term.
URL:https://lifestylecollege.com.au/calendar/pastoral-care-2024-assessment-3-2/
CATEGORIES:Assessment
END:VEVENT
BEGIN:VEVENT
DTSTART;TZID=Australia/Brisbane:20260418T143000
DTEND;TZID=Australia/Brisbane:20260418T163000
DTSTAMP:20260420T143459
CREATED:20260304T083713Z
LAST-MODIFIED:20260313T234022Z
UID:10359-1776522600-1776529800@lifestylecollege.com.au
SUMMARY:Afternoon Tea with Ps Aaron Bachmann
DESCRIPTION:Ps Aaron Bachmann cordially invites all Lifestyle College students to an Afternoon Tea to honour all of the College students but especially those of the Class of 2024 for completing their Certificate IV in Ministry and Discipleship. Details are as follows: \nDate: Saturday\, April 18\, 2026 \nTime: 2:30pm – 4:30pm \nPlace: Tondoon Botanical Gardens Cafe \nBeverages and sweets will be provided so we hope you all can make it.
URL:https://lifestylecollege.com.au/calendar/afternoon-tea-with-ps-aaron-bachmann-2/
LOCATION:Tondoon Botanical Gardens\, 672 Glenlyon Rd\, Glen Eden\, Qld\, 4680\, Australia
CATEGORIES:Social
ORGANIZER;CN="Ps. Steve Luba":MAILTO:hello@lifestylecollege.com.au
END:VEVENT
BEGIN:VEVENT
DTSTART;TZID=Australia/Brisbane:20260420T080000
DTEND;TZID=Australia/Brisbane:20260420T090000
DTSTAMP:20260420T143459
CREATED:20260108T042924Z
LAST-MODIFIED:20260108T042924Z
UID:10093-1776672000-1776675600@lifestylecollege.com.au
SUMMARY:Term 2 Begins
DESCRIPTION:
URL:https://lifestylecollege.com.au/calendar/term-2-begins/
END:VEVENT
BEGIN:VEVENT
DTSTART;TZID=Australia/Brisbane:20260421T183000
DTEND;TZID=Australia/Brisbane:20260421T200000
DTSTAMP:20260420T143459
CREATED:20260413T053905Z
LAST-MODIFIED:20260413T053905Z
UID:10419-1776796200-1776801600@lifestylecollege.com.au
SUMMARY:God's Story The Bible - 2026 Module 1
DESCRIPTION:NAT11088005 – Create tools facilitating the learning and communication of the Bible \n\nUnit 2: God’s Story: The Bible\nModule 1: Narrative structure and the Bible
URL:https://lifestylecollege.com.au/calendar/gods-story-the-bible-2026-module-1/
LOCATION:Lifestyle College\, 2/83 Sun Valley Road\, Kin Kora\, QLD\, 4680\, Australia
CATEGORIES:Lecture
ORGANIZER;CN="Ps. Steve Luba":MAILTO:hello@lifestylecollege.com.au
END:VEVENT
BEGIN:VEVENT
DTSTART;TZID=Australia/Brisbane:20260423T190000
DTEND;TZID=Australia/Brisbane:20260423T203000
DTSTAMP:20260420T143459
CREATED:20260413T054814Z
LAST-MODIFIED:20260413T054814Z
UID:10423-1776970800-1776976200@lifestylecollege.com.au
SUMMARY:Discipleship 2 - 2025 Module 1
DESCRIPTION:NAT11088002 – Disciple a church member \n\nUnit 6: Discipleship 2\nModule 1: What is Discipleship
URL:https://lifestylecollege.com.au/calendar/discipleship-2-2025-module-1/
LOCATION:Lifestyle College\, 2/83 Sun Valley Road\, Kin Kora\, QLD\, 4680\, Australia
CATEGORIES:Lecture
ORGANIZER;CN="Ps. Steve Luba":MAILTO:hello@lifestylecollege.com.au
END:VEVENT
BEGIN:VEVENT
DTSTART;TZID=Australia/Brisbane:20260425T080000
DTEND;TZID=Australia/Brisbane:20260425T090000
DTSTAMP:20260420T143459
CREATED:20260108T043759Z
LAST-MODIFIED:20260110T065414Z
UID:10111-1777104000-1777107600@lifestylecollege.com.au
SUMMARY:ANZAC Holiday
DESCRIPTION:
URL:https://lifestylecollege.com.au/calendar/anzac-holiday/
END:VEVENT
BEGIN:VEVENT
DTSTART;TZID=Australia/Brisbane:20260428T183000
DTEND;TZID=Australia/Brisbane:20260428T200000
DTSTAMP:20260420T143459
CREATED:20260413T054312Z
LAST-MODIFIED:20260413T054312Z
UID:10421-1777401000-1777406400@lifestylecollege.com.au
SUMMARY:God's Story The Bible - 2026 Module 2
DESCRIPTION:NAT11088005 – Create tools facilitating the learning and communication of the Bible \n\nUnit 2: God’s Story: The Bible\nModule 2: Creation to Abraham and Old Testament Canon
URL:https://lifestylecollege.com.au/calendar/gods-story-the-bible-2026-module-2/
LOCATION:Lifestyle College\, 2/83 Sun Valley Road\, Kin Kora\, QLD\, 4680\, Australia
CATEGORIES:Lecture
ORGANIZER;CN="Ps. Steve Luba":MAILTO:hello@lifestylecollege.com.au
END:VEVENT
BEGIN:VEVENT
DTSTART;TZID=Australia/Brisbane:20260430T190000
DTEND;TZID=Australia/Brisbane:20260430T203000
DTSTAMP:20260420T143459
CREATED:20260413T055024Z
LAST-MODIFIED:20260413T055024Z
UID:10425-1777575600-1777581000@lifestylecollege.com.au
SUMMARY:Discipleship 2 - 2025 Module 2
DESCRIPTION:NAT11088002 – Disciple a church member \n\nUnit 6: Discipleship 2\nModule 2: Establishing a Discipleship Relationship
URL:https://lifestylecollege.com.au/calendar/discipleship-2-2025-module-2/
LOCATION:Lifestyle College\, 2/83 Sun Valley Road\, Kin Kora\, QLD\, 4680\, Australia
CATEGORIES:Lecture
ORGANIZER;CN="Ps. Steve Luba":MAILTO:hello@lifestylecollege.com.au
END:VEVENT
BEGIN:VEVENT
DTSTART;TZID=Australia/Brisbane:20260504T080000
DTEND;TZID=Australia/Brisbane:20260504T090000
DTSTAMP:20260420T143459
CREATED:20260108T043834Z
LAST-MODIFIED:20260108T043834Z
UID:10113-1777881600-1777885200@lifestylecollege.com.au
SUMMARY:Labour Day Holiday
DESCRIPTION:
URL:https://lifestylecollege.com.au/calendar/labour-day-holiday/
END:VEVENT
BEGIN:VEVENT
DTSTART;TZID=Australia/Brisbane:20260505T183000
DTEND;TZID=Australia/Brisbane:20260505T200000
DTSTAMP:20260420T143459
CREATED:20260415T063338Z
LAST-MODIFIED:20260415T063338Z
UID:10437-1778005800-1778011200@lifestylecollege.com.au
SUMMARY:God's Story the Bible - 2026 Module 3
DESCRIPTION:NAT11088005 – Create tools facilitating the learning and communication of the Bible \n\nUnit 2: God’s Story: The Bible\nModule 3: The Exodus and New Testament Canon
URL:https://lifestylecollege.com.au/calendar/gods-story-the-bible-2026-module-3/
LOCATION:Lifestyle College\, 2/83 Sun Valley Road\, Kin Kora\, QLD\, 4680\, Australia
CATEGORIES:Lecture
ORGANIZER;CN="Ps. Steve Luba":MAILTO:hello@lifestylecollege.com.au
END:VEVENT
BEGIN:VEVENT
DTSTART;TZID=Australia/Brisbane:20260507T190000
DTEND;TZID=Australia/Brisbane:20260507T203000
DTSTAMP:20260420T143459
CREATED:20260415T065405Z
LAST-MODIFIED:20260415T065405Z
UID:10451-1778180400-1778185800@lifestylecollege.com.au
SUMMARY:Discipleship 2 - 2025 Module 3
DESCRIPTION:NAT11088002 – Disciple a church member \n\nUnit 6: Discipleship 2\nModule 3: Holy Spirit in Discipleship
URL:https://lifestylecollege.com.au/calendar/discipleship-2-2025-module-3/
LOCATION:Lifestyle College\, 2/83 Sun Valley Road\, Kin Kora\, QLD\, 4680\, Australia
CATEGORIES:Lecture
ORGANIZER;CN="Ps. Steve Luba":MAILTO:hello@lifestylecollege.com.au
END:VEVENT
BEGIN:VEVENT
DTSTART;TZID=Australia/Brisbane:20260508T223000
DTEND;TZID=Australia/Brisbane:20260508T230000
DTSTAMP:20260420T143459
CREATED:20260415T071121Z
LAST-MODIFIED:20260415T071121Z
UID:10467-1778279400-1778281200@lifestylecollege.com.au
SUMMARY:Discipleship 2 - 2025 (Assessment 1)
DESCRIPTION:Assessment 1 – Develop a plan to disciple another church member to enable growth over 7 weeks (about 2 months). \nDue Date: May 8 (Week 3) \nFind a person to disciple within your church\, then collaborate with them and develop a discipleship plan for at least 7 weeks (about 2 months). This must include at least four formal meetings (discussing the discipleship plan\, goals\, progress\, etc.) and at least two informal connections (phone calls\, text messages\, conversing in the foyer at church\, etc.) \nYou will need to obtain consent from the disciple to create a written record of the process throughout the term
URL:https://lifestylecollege.com.au/calendar/discipleship-2-2025-assessment-1/
CATEGORIES:Assessment
END:VEVENT
BEGIN:VEVENT
DTSTART;TZID=Australia/Brisbane:20260512T183000
DTEND;TZID=Australia/Brisbane:20260512T200000
DTSTAMP:20260420T143459
CREATED:20260415T063708Z
LAST-MODIFIED:20260415T063708Z
UID:10439-1778610600-1778616000@lifestylecollege.com.au
SUMMARY:God's Story the Bible - 2026 Module 4
DESCRIPTION:NAT11088005 – Create tools facilitating the learning and communication of the Bible \n\nUnit 2: God’s Story: The Bible\nModule 4: The Story of Israel and the Literary Structure of the Bible
URL:https://lifestylecollege.com.au/calendar/gods-story-the-bible-2026-module-4/
LOCATION:Lifestyle College\, 2/83 Sun Valley Road\, Kin Kora\, QLD\, 4680\, Australia
CATEGORIES:Lecture
ORGANIZER;CN="Ps. Steve Luba":MAILTO:hello@lifestylecollege.com.au
END:VEVENT
BEGIN:VEVENT
DTSTART;TZID=Australia/Brisbane:20260514T190000
DTEND;TZID=Australia/Brisbane:20260514T203000
DTSTAMP:20260420T143459
CREATED:20260415T065623Z
LAST-MODIFIED:20260415T065623Z
UID:10453-1778785200-1778790600@lifestylecollege.com.au
SUMMARY:Discipleship 2 - 2025 Module 4
DESCRIPTION:NAT11088002 – Disciple a church member \n\nUnit 6: Discipleship 2\nModule 4: Relationship Guidelines
URL:https://lifestylecollege.com.au/calendar/discipleship-2-2025-module-4/
LOCATION:Lifestyle College\, 2/83 Sun Valley Road\, Kin Kora\, QLD\, 4680\, Australia
CATEGORIES:Lecture
ORGANIZER;CN="Ps. Steve Luba":MAILTO:hello@lifestylecollege.com.au
END:VEVENT
BEGIN:VEVENT
DTSTART;TZID=Australia/Brisbane:20260519T183000
DTEND;TZID=Australia/Brisbane:20260519T200000
DTSTAMP:20260420T143459
CREATED:20260415T064013Z
LAST-MODIFIED:20260415T064013Z
UID:10441-1779215400-1779220800@lifestylecollege.com.au
SUMMARY:God's Story the Bible - 2026 Module 5
DESCRIPTION:NAT11088005 – Create tools facilitating the learning and communication of the Bible \n\nUnit 2: God’s Story: The Bible\nModule 5: The Prophets of Israel
URL:https://lifestylecollege.com.au/calendar/gods-story-the-bible-2026-module-5/
LOCATION:Lifestyle College\, 2/83 Sun Valley Road\, Kin Kora\, QLD\, 4680\, Australia
CATEGORIES:Lecture
ORGANIZER;CN="Ps. Steve Luba":MAILTO:hello@lifestylecollege.com.au
END:VEVENT
BEGIN:VEVENT
DTSTART;TZID=Australia/Brisbane:20260521T190000
DTEND;TZID=Australia/Brisbane:20260521T203000
DTSTAMP:20260420T143459
CREATED:20260415T065831Z
LAST-MODIFIED:20260415T065831Z
UID:10457-1779390000-1779395400@lifestylecollege.com.au
SUMMARY:Discipleship 2 - 2025 Module 5
DESCRIPTION:NAT11088002 – Disciple a church member \n\nUnit 6: Discipleship 2\nModule 5: Active Listening
URL:https://lifestylecollege.com.au/calendar/discipleship-2-2025-module-5/
LOCATION:Lifestyle College\, 2/83 Sun Valley Road\, Kin Kora\, QLD\, 4680\, Australia
CATEGORIES:Lecture
ORGANIZER;CN="Ps. Steve Luba":MAILTO:hello@lifestylecollege.com.au
END:VEVENT
BEGIN:VEVENT
DTSTART;TZID=Australia/Brisbane:20260522T230000
DTEND;TZID=Australia/Brisbane:20260522T233000
DTSTAMP:20260420T143459
CREATED:20260414T095920Z
LAST-MODIFIED:20260414T095920Z
UID:10431-1779490800-1779492600@lifestylecollege.com.au
SUMMARY:God's Story The Bible - 2026 (Assessment 1)
DESCRIPTION:Assessment 1 \nDue date: May 22 (Week 5) \nCreate a personalised long-term plan of how you will continue to develop your biblical literacy over your lifetime.
URL:https://lifestylecollege.com.au/calendar/gods-story-the-bible-2026-assessment-1/
CATEGORIES:Assessment
ORGANIZER;CN="Ps. Steve Luba":MAILTO:hello@lifestylecollege.com.au
END:VEVENT
BEGIN:VEVENT
DTSTART;TZID=Australia/Brisbane:20260523T100000
DTEND;TZID=Australia/Brisbane:20260523T130000
DTSTAMP:20260420T143459
CREATED:20260414T031208Z
LAST-MODIFIED:20260414T031208Z
UID:10429-1779530400-1779541200@lifestylecollege.com.au
SUMMARY:ACC Regional Meeting
DESCRIPTION:Regional Meeting of the Leadership from Central Queensland ACC Churches. \nLocation: Lifestyle Church Gladstone \nTime: 10am (Morning Tea) followed by a 10:30am start. Lunch to follow (RSVP required for lunch) \nGuest Speaker: TBD
URL:https://lifestylecollege.com.au/calendar/acc-regional-meeting-5/
LOCATION:Lifestyle Church\, 2/83 Sun Valley Rd\, Kin Kora\, Qld\, 4680
CATEGORIES:Meeting
END:VEVENT
BEGIN:VEVENT
DTSTART;TZID=Australia/Brisbane:20260526T183000
DTEND;TZID=Australia/Brisbane:20260526T200000
DTSTAMP:20260420T143459
CREATED:20260415T064254Z
LAST-MODIFIED:20260415T064254Z
UID:10443-1779820200-1779825600@lifestylecollege.com.au
SUMMARY:God's Story the Bible - 2026 Module 6
DESCRIPTION:NAT11088005 – Create tools facilitating the learning and communication of the Bible \n\nUnit 2: God’s Story: The Bible\nModule 6: The Psalms and Proverbs
URL:https://lifestylecollege.com.au/calendar/gods-story-the-bible-2026-module-6/
LOCATION:Lifestyle College\, 2/83 Sun Valley Road\, Kin Kora\, QLD\, 4680\, Australia
CATEGORIES:Lecture
ORGANIZER;CN="Ps. Steve Luba":MAILTO:hello@lifestylecollege.com.au
END:VEVENT
BEGIN:VEVENT
DTSTART;TZID=Australia/Brisbane:20260528T190000
DTEND;TZID=Australia/Brisbane:20260528T203000
DTSTAMP:20260420T143459
CREATED:20260415T070051Z
LAST-MODIFIED:20260415T070051Z
UID:10459-1779994800-1780000200@lifestylecollege.com.au
SUMMARY:Discipleship 2 - 2025 Module 6
DESCRIPTION:NAT11088002 – Disciple a church member \n\nUnit 6: Discipleship 2\nModule 6: Building Faith
URL:https://lifestylecollege.com.au/calendar/discipleship-2-2025-module-6/
LOCATION:Lifestyle College\, 2/83 Sun Valley Road\, Kin Kora\, QLD\, 4680\, Australia
CATEGORIES:Lecture
ORGANIZER;CN="Ps. Steve Luba":MAILTO:hello@lifestylecollege.com.au
END:VEVENT
BEGIN:VEVENT
DTSTART;TZID=Australia/Brisbane:20260602T183000
DTEND;TZID=Australia/Brisbane:20260602T200000
DTSTAMP:20260420T143459
CREATED:20260415T064458Z
LAST-MODIFIED:20260415T064458Z
UID:10445-1780425000-1780430400@lifestylecollege.com.au
SUMMARY:God's Story the Bible - 2026 Module 7
DESCRIPTION:NAT11088005 – Create tools facilitating the learning and communication of the Bible \n\nUnit 2: God’s Story: The Bible\nModule 7: Jesus and the Gospels
URL:https://lifestylecollege.com.au/calendar/gods-story-the-bible-2026-module-7/
LOCATION:Lifestyle College\, 2/83 Sun Valley Road\, Kin Kora\, QLD\, 4680\, Australia
CATEGORIES:Lecture
ORGANIZER;CN="Ps. Steve Luba":MAILTO:hello@lifestylecollege.com.au
END:VEVENT
BEGIN:VEVENT
DTSTART;TZID=Australia/Brisbane:20260604T190000
DTEND;TZID=Australia/Brisbane:20260604T203000
DTSTAMP:20260420T143459
CREATED:20260415T070312Z
LAST-MODIFIED:20260415T070312Z
UID:10461-1780599600-1780605000@lifestylecollege.com.au
SUMMARY:Discipleship 2 - 2025 Module 7
DESCRIPTION:NAT11088002 – Disciple a church member \n\nUnit 6: Discipleship 2\nModule 7: Modeling Faith
URL:https://lifestylecollege.com.au/calendar/discipleship-2-2025-module-7/
LOCATION:Lifestyle College\, 2/83 Sun Valley Road\, Kin Kora\, QLD\, 4680\, Australia
CATEGORIES:Lecture
ORGANIZER;CN="Ps. Steve Luba":MAILTO:hello@lifestylecollege.com.au
END:VEVENT
END:VCALENDAR