BEGIN:VCALENDAR
VERSION:2.0
PRODID:-//Lifestyle College - ECPv6.15.17.1//NONSGML v1.0//EN
CALSCALE:GREGORIAN
METHOD:PUBLISH
X-WR-CALNAME:Lifestyle College
X-ORIGINAL-URL:https://lifestylecollege.com.au
X-WR-CALDESC:Events for Lifestyle College
REFRESH-INTERVAL;VALUE=DURATION:PT1H
X-Robots-Tag:noindex
X-PUBLISHED-TTL:PT1H
BEGIN:VTIMEZONE
TZID:Australia/Brisbane
BEGIN:STANDARD
TZOFFSETFROM:+1000
TZOFFSETTO:+1000
TZNAME:AEST
DTSTART:20240101T000000
END:STANDARD
END:VTIMEZONE
BEGIN:VEVENT
DTSTART;TZID=Australia/Brisbane:20250508T183000
DTEND;TZID=Australia/Brisbane:20250508T203000
DTSTAMP:20260420T173046
CREATED:20250422T111025Z
LAST-MODIFIED:20250502T092142Z
UID:9386-1746729000-1746736200@lifestylecollege.com.au
SUMMARY:God's Story The Bible - 2025 Module 2
DESCRIPTION:NAT11088005 – Create tools facilitating the learning and communication of the Bible \n\nUnit 2: God’s Story: The Bible\nModule 2: Creation to Abraham and Old Testament Canon
URL:https://lifestylecollege.com.au/calendar/certificate-iv-in-ministry-and-discipleship-2025-2/
LOCATION:Lifestyle College\, 2/83 Sun Valley Road\, Kin Kora\, QLD\, 4680\, Australia
CATEGORIES:Lecture
ORGANIZER;CN="Ps. Steve Luba":MAILTO:hello@lifestylecollege.com.au
END:VEVENT
BEGIN:VEVENT
DTSTART;TZID=Australia/Brisbane:20250506T183000
DTEND;TZID=Australia/Brisbane:20250506T203000
DTSTAMP:20260420T173046
CREATED:20250422T111812Z
LAST-MODIFIED:20250502T092051Z
UID:9394-1746556200-1746563400@lifestylecollege.com.au
SUMMARY:Applying The Bible - 2024 Module 2
DESCRIPTION:NAT11088006 – Interpret the Bible for personal and communal edification \n\nUnit 5: Applying the Bible\nModule 2: Background Context
URL:https://lifestylecollege.com.au/calendar/certificate-iv-in-ministry-and-discipleship-2024-2/
LOCATION:Lifestyle College\, 2/83 Sun Valley Road\, Kin Kora\, QLD\, 4680\, Australia
CATEGORIES:Lecture
ORGANIZER;CN="Ps. Steve Luba":MAILTO:hello@lifestylecollege.com.au
END:VEVENT
BEGIN:VEVENT
DTSTART;TZID=Australia/Brisbane:20250501T183000
DTEND;TZID=Australia/Brisbane:20250501T203000
DTSTAMP:20260420T173046
CREATED:20250422T110301Z
LAST-MODIFIED:20250502T012334Z
UID:9380-1746124200-1746131400@lifestylecollege.com.au
SUMMARY:God's Story The Bible - 2025 Module 1
DESCRIPTION:NAT11088005 – Create tools facilitating the learning and communication of the Bible \n\nUnit 2: God’s Story: The Bible\nModule 1: Narrative structure and the Bible
URL:https://lifestylecollege.com.au/calendar/certificate-iv-in-ministry-and-discipleship-2025/
LOCATION:Lifestyle College\, 2/83 Sun Valley Road\, Kin Kora\, QLD\, 4680\, Australia
CATEGORIES:Lecture
ORGANIZER;CN="Ps. Steve Luba":MAILTO:hello@lifestylecollege.com.au
END:VEVENT
BEGIN:VEVENT
DTSTART;TZID=Australia/Brisbane:20250429T183000
DTEND;TZID=Australia/Brisbane:20250429T203000
DTSTAMP:20260420T173046
CREATED:20250422T103330Z
LAST-MODIFIED:20250502T012122Z
UID:9301-1745951400-1745958600@lifestylecollege.com.au
SUMMARY:Applying The Bible - 2024 Module 1
DESCRIPTION:NAT11088006 – Interpret the Bible for personal and communal edification \n\nUnit 5: Applying the Bible\nModule 1: Introduction
URL:https://lifestylecollege.com.au/calendar/certificate-iv-in-ministry-and-discipleship-2024/
LOCATION:Lifestyle College\, 2/83 Sun Valley Road\, Kin Kora\, QLD\, 4680\, Australia
CATEGORIES:Lecture
ORGANIZER;CN="Ps. Steve Luba":MAILTO:hello@lifestylecollege.com.au
END:VEVENT
END:VCALENDAR