BEGIN:VCALENDAR
VERSION:2.0
PRODID:-//Lifestyle College - ECPv6.15.17.1//NONSGML v1.0//EN
CALSCALE:GREGORIAN
METHOD:PUBLISH
X-ORIGINAL-URL:https://lifestylecollege.com.au
X-WR-CALDESC:Events for Lifestyle College
REFRESH-INTERVAL;VALUE=DURATION:PT1H
X-Robots-Tag:noindex
X-PUBLISHED-TTL:PT1H
BEGIN:VTIMEZONE
TZID:Australia/Brisbane
BEGIN:STANDARD
TZOFFSETFROM:+1000
TZOFFSETTO:+1000
TZNAME:AEST
DTSTART:20250101T000000
END:STANDARD
END:VTIMEZONE
BEGIN:VEVENT
DTSTART;TZID=Australia/Brisbane:20260616T183000
DTEND;TZID=Australia/Brisbane:20260616T200000
DTSTAMP:20260420T090833
CREATED:20260415T064945Z
LAST-MODIFIED:20260415T064945Z
UID:10448-1781634600-1781640000@lifestylecollege.com.au
SUMMARY:God's Story the Bible - 2026 Module 9
DESCRIPTION:NAT11088005 – Create tools facilitating the learning and communication of the Bible \n\nUnit 2: God’s Story: The Bible\nModule 9: Conclusion
URL:https://lifestylecollege.com.au/calendar/gods-story-the-bible-2026-module-9/
LOCATION:Lifestyle College\, 2/83 Sun Valley Road\, Kin Kora\, QLD\, 4680\, Australia
CATEGORIES:Lecture
ORGANIZER;CN="Ps. Steve Luba":MAILTO:hello@lifestylecollege.com.au
END:VEVENT
BEGIN:VEVENT
DTSTART;TZID=Australia/Brisbane:20260618T190000
DTEND;TZID=Australia/Brisbane:20260618T203000
DTSTAMP:20260420T090833
CREATED:20260415T070711Z
LAST-MODIFIED:20260415T070711Z
UID:10465-1781809200-1781814600@lifestylecollege.com.au
SUMMARY:Discipleship 2 - 2025 Module 9
DESCRIPTION:NAT11088002 – Disciple a church member \n\nUnit 6: Discipleship 2\nModule 9: Discipleship Continuum
URL:https://lifestylecollege.com.au/calendar/discipleship-2-2025-module-9/
LOCATION:Lifestyle College\, 2/83 Sun Valley Road\, Kin Kora\, QLD\, 4680\, Australia
CATEGORIES:Lecture
ORGANIZER;CN="Ps. Steve Luba":MAILTO:hello@lifestylecollege.com.au
END:VEVENT
BEGIN:VEVENT
DTSTART;TZID=Australia/Brisbane:20260619T080000
DTEND;TZID=Australia/Brisbane:20260619T090000
DTSTAMP:20260420T090833
CREATED:20260108T043032Z
LAST-MODIFIED:20260108T043032Z
UID:10095-1781856000-1781859600@lifestylecollege.com.au
SUMMARY:Term 2 Ends
DESCRIPTION:
URL:https://lifestylecollege.com.au/calendar/term-2-ends-2/
LOCATION:QLD
END:VEVENT
BEGIN:VEVENT
DTSTART;TZID=Australia/Brisbane:20260619T230000
DTEND;TZID=Australia/Brisbane:20260619T233000
DTSTAMP:20260420T090833
CREATED:20260415T062137Z
LAST-MODIFIED:20260415T062137Z
UID:10433-1781910000-1781911800@lifestylecollege.com.au
SUMMARY:God's Story The Bible - 2026 (Assessment 2)
DESCRIPTION:Assessment 2 \nDue date: June 19 (Week 9) \nCreate a tool which can aid your explanation of God’s Story to a disciple.
URL:https://lifestylecollege.com.au/calendar/gods-story-the-bible-2026-assessment-2/
LOCATION:QLD
CATEGORIES:Assessment
ORGANIZER;CN="Ps. Steve Luba":MAILTO:hello@lifestylecollege.com.au
END:VEVENT
BEGIN:VEVENT
DTSTART;TZID=Australia/Brisbane:20260703T223000
DTEND;TZID=Australia/Brisbane:20260703T230000
DTSTAMP:20260420T090833
CREATED:20260415T071413Z
LAST-MODIFIED:20260415T071413Z
UID:10469-1783117800-1783119600@lifestylecollege.com.au
SUMMARY:Discipleship 2 - 2025 (Assessment 2)
DESCRIPTION:Assessment 2 – Disciple a church member for 7 weeks. \nDue Date: July 3 (Week 11) \nFollow the discipleship plan from Assessment 1 over 7 weeks (about 2 months)\, keeping a log of your own progress and the process of discipleship. \nThe person you disciple will need to fill out an evaluation at the end of the time so please make sure they are aware of this before they begin.
URL:https://lifestylecollege.com.au/calendar/discipleship-2-2025-assessment-2/
LOCATION:Lifestyle College\, 2/83 Sun Valley Road\, Kin Kora\, QLD\, 4680\, Australia
CATEGORIES:Assessment
END:VEVENT
BEGIN:VEVENT
DTSTART;TZID=Australia/Brisbane:20260703T230000
DTEND;TZID=Australia/Brisbane:20260703T233000
DTSTAMP:20260420T090833
CREATED:20260415T062406Z
LAST-MODIFIED:20260415T062406Z
UID:10435-1783119600-1783121400@lifestylecollege.com.au
SUMMARY:God's Story The Bible - 2026 (Assessment 3)
DESCRIPTION:Assessment 3 \nDue date: July 3 (Week 11) \nRecord a video of yourself responding to the following question from a person who is early in their discipleship journey: \nQ: So\, what’s the Bible all about anyway? \nYour response should consist of an overview of the Bible’s structure\, narrative and major themes and be based on all nine weeks of the lectures of this unit.
URL:https://lifestylecollege.com.au/calendar/gods-story-the-bible-2026-assessment-3/
LOCATION:QLD
CATEGORIES:Assessment
ORGANIZER;CN="Ps. Steve Luba":MAILTO:hello@lifestylecollege.com.au
END:VEVENT
BEGIN:VEVENT
DTSTART;TZID=Australia/Brisbane:20260713T080000
DTEND;TZID=Australia/Brisbane:20260713T090000
DTSTAMP:20260420T090833
CREATED:20260108T043126Z
LAST-MODIFIED:20260108T043126Z
UID:10097-1783929600-1783933200@lifestylecollege.com.au
SUMMARY:Term 3 Begins
DESCRIPTION:
URL:https://lifestylecollege.com.au/calendar/term-3-begins/
LOCATION:QLD
END:VEVENT
BEGIN:VEVENT
DTSTART;TZID=Australia/Brisbane:20260810T080000
DTEND;TZID=Australia/Brisbane:20260810T090000
DTSTAMP:20260420T090833
CREATED:20260108T043716Z
LAST-MODIFIED:20260108T043716Z
UID:10109-1786348800-1786352400@lifestylecollege.com.au
SUMMARY:Gladstone Show Holiday
DESCRIPTION:
URL:https://lifestylecollege.com.au/calendar/gladstone-show-holiday-2/
LOCATION:QLD
END:VEVENT
BEGIN:VEVENT
DTSTART;TZID=Australia/Brisbane:20260911T080000
DTEND;TZID=Australia/Brisbane:20260911T090000
DTSTAMP:20260420T090833
CREATED:20260108T043211Z
LAST-MODIFIED:20260108T043211Z
UID:10099-1789113600-1789117200@lifestylecollege.com.au
SUMMARY:Term 3 Ends
DESCRIPTION:
URL:https://lifestylecollege.com.au/calendar/term-3-ends-2/
LOCATION:QLD
END:VEVENT
BEGIN:VEVENT
DTSTART;TZID=Australia/Brisbane:20261005T080000
DTEND;TZID=Australia/Brisbane:20261005T170000
DTSTAMP:20260420T090833
CREATED:20260108T043341Z
LAST-MODIFIED:20260108T043341Z
UID:10103-1791187200-1791219600@lifestylecollege.com.au
SUMMARY:King's Birthday Holiday
DESCRIPTION:
URL:https://lifestylecollege.com.au/calendar/kings-birthday-holiday-2/
LOCATION:QLD
END:VEVENT
BEGIN:VEVENT
DTSTART;TZID=Australia/Brisbane:20261006T080000
DTEND;TZID=Australia/Brisbane:20261006T090000
DTSTAMP:20260420T090833
CREATED:20260108T043304Z
LAST-MODIFIED:20260108T043304Z
UID:10101-1791273600-1791277200@lifestylecollege.com.au
SUMMARY:Term 4 Begins
DESCRIPTION:
URL:https://lifestylecollege.com.au/calendar/term-4-begins/
LOCATION:QLD
END:VEVENT
BEGIN:VEVENT
DTSTART;TZID=Australia/Brisbane:20261012T080000
DTEND;TZID=Australia/Brisbane:20261016T170000
DTSTAMP:20260420T090833
CREATED:20260108T043439Z
LAST-MODIFIED:20260108T043439Z
UID:10105-1791792000-1792170000@lifestylecollege.com.au
SUMMARY:ACC State Conference
DESCRIPTION:
URL:https://lifestylecollege.com.au/calendar/acc-state-conference-2/
LOCATION:QLD
END:VEVENT
BEGIN:VEVENT
DTSTART;TZID=Australia/Brisbane:20261204T080000
DTEND;TZID=Australia/Brisbane:20261204T090000
DTSTAMP:20260420T090833
CREATED:20260108T043626Z
LAST-MODIFIED:20260108T043626Z
UID:10107-1796371200-1796374800@lifestylecollege.com.au
SUMMARY:Term 4 Ends
DESCRIPTION:
URL:https://lifestylecollege.com.au/calendar/term-4-ends-2/
LOCATION:QLD
END:VEVENT
END:VCALENDAR