BEGIN:VCALENDAR
VERSION:2.0
PRODID:-//Lifestyle College - ECPv6.15.17.1//NONSGML v1.0//EN
CALSCALE:GREGORIAN
METHOD:PUBLISH
X-WR-CALNAME:Lifestyle College
X-ORIGINAL-URL:https://lifestylecollege.com.au
X-WR-CALDESC:Events for Lifestyle College
REFRESH-INTERVAL;VALUE=DURATION:PT1H
X-Robots-Tag:noindex
X-PUBLISHED-TTL:PT1H
BEGIN:VTIMEZONE
TZID:Australia/Brisbane
BEGIN:STANDARD
TZOFFSETFROM:+1000
TZOFFSETTO:+1000
TZNAME:AEST
DTSTART:20240101T000000
END:STANDARD
END:VTIMEZONE
BEGIN:VEVENT
DTSTART;TZID=Australia/Brisbane:20250616T080000
DTEND;TZID=Australia/Brisbane:20250616T083000
DTSTAMP:20260420T002527
CREATED:20250611T091916Z
LAST-MODIFIED:20250611T091916Z
UID:9644-1750060800-1750062600@lifestylecollege.com.au
SUMMARY:God's Story The Bible 2025: Recording of Assessment Tutorial 2
DESCRIPTION:For God’s Story The Bible\, here is the link to the video recording from Assessor Ray Badham of Tutorial 2 from Wednesday 11 June\, for those who missed it. \nLink: Assessment Tutorial 2
URL:https://lifestylecollege.com.au/calendar/gods-story-the-bible-2025-recording-of-assessment-tutorial-2/
LOCATION:Queensland
CATEGORIES:Meeting
ORGANIZER;CN="Ps. Steve Luba":MAILTO:hello@lifestylecollege.com.au
END:VEVENT
BEGIN:VEVENT
DTSTART;TZID=Australia/Brisbane:20250613T180000
DTEND;TZID=Australia/Brisbane:20250615T120000
DTSTAMP:20260420T002527
CREATED:20250507T004221Z
LAST-MODIFIED:20250522T040234Z
UID:9489-1749837600-1749988800@lifestylecollege.com.au
SUMMARY:Lifestyle United Weekend
DESCRIPTION:This weekend is about building Supernatural Strength in our church and people in 2025—grounded in our key scripture for the year: Ephesians 3:14–21 – “Supernatural Strength.”\n\nOver three powerful days\, we’re gathering as one church with one heart to Encounter God\, Engage Communities for His Kingdom\, and be equipped for Our World and we’re thrilled to welcome Special Guest Speaker Ps Mark & Nina Elmendorp as we unite in faith and purpose.* FRIDAY 13th June 2025*– 7pm-8.00pm\, “Building Greater Strength in Life & Leadership” with Special Guest Speaker Ps Mark & Nina Elmendorp PLUS Q & A Session.\n\n* SATURDAY 14th June 2025* \n\nMen’s Event: 7:00am–9:00am\nLadies Event: 10:30am–12:30pm\n\nBe sure to register for these incredible events;\n Click here to register for the Men’s Event >  \n Click here to register for the Ladies Event >  \n\n* SATURDAY 14th June 2025*– 7pm-8.30pm\, Encounter Night– Lifestyle Centre\, 83 Sun Valley Road\, Gladstone\, Qld\, 4680.– Special Guest Speaker Ps Mark & Nina Elmendorp– Free Child Minding Available: Check in open from 6.45pm.\n\n* SUNDAY 15th June 2025 *– 9.30am – 11am\, Sunday Gathering– Lifestyle Centre\, 83 Sun Valley Road\, Gladstone\, Qld\, 4680.\n– Kidstyle Program: Check in open from 9.15am– Heaps of fun for the kids & whole family to enjoy!\n\nJOIN THE TEAM!\n\nWe’re inviting YOU to serve on the Lifestyle Team during this incredible weekend. Whether it’s welcoming\, kids\, production\, hospitality or more – your hands and heart make an Eternal Difference. \nThis isn’t just an event — it’s a chance to gather\, serve and encounter God like never before as we pursue His Supernatural Strength together. \n Click here to register to serve on the team \n\nInvite a friend and be part of a weekend that strengthens your soul and stirs your spirit.\nKeep an eye on social media as more exciting details are released!\nEVERYONE IS WELCOME – we can’t wait to see you at Lifestyle United 2025!
URL:https://lifestylecollege.com.au/calendar/lifestyle-united-weekend/
LOCATION:Lifestyle Church\, 2/83 Sun Valley Rd\, Kin Kora\, Qld\, 4680
CATEGORIES:Meeting
ORGANIZER;CN="Ps. Steve Luba":MAILTO:hello@lifestylecollege.com.au
END:VEVENT
BEGIN:VEVENT
DTSTART;TZID=Australia/Brisbane:20250611T163000
DTEND;TZID=Australia/Brisbane:20250611T173000
DTSTAMP:20260420T002527
CREATED:20250502T014332Z
LAST-MODIFIED:20250502T014510Z
UID:9472-1749659400-1749663000@lifestylecollege.com.au
SUMMARY:God's Story The Bible 2025 Assessor Video Tutorial 2
DESCRIPTION:God’s Story The Bible video tutorial call 2 with Assessor Ray Badham\, who will go over the background and requirements for Assessment 2 due on June 27 and Assessment 3 due on July 18. This will be recorded so for those who cannot attend please be on watch for the updated email from Ray.
URL:https://lifestylecollege.com.au/calendar/gods-story-the-bible-2025-assessor-video-tutorial-2/
LOCATION:Queensland
CATEGORIES:Meeting
END:VEVENT
BEGIN:VEVENT
DTSTART;TZID=Australia/Brisbane:20250524T100000
DTEND;TZID=Australia/Brisbane:20250524T130000
DTSTAMP:20260420T002527
CREATED:20250430T011105Z
LAST-MODIFIED:20250430T011105Z
UID:9440-1748080800-1748091600@lifestylecollege.com.au
SUMMARY:ACC Regional Meeting
DESCRIPTION:Regional Meeting of the Leadership from Central Queensland ACC Churches. \nTime: 10am (Morning Tea) followed by a 10:30am start. Lunch to follow (RSVP required for lunch) \nLocation: Northside Church\, 80 Thorn St\, Berserker (Rockhampton) Qld \nGuest Speaker: Ps Isaiah Simmons
URL:https://lifestylecollege.com.au/calendar/acc-regional-meeting/
LOCATION:Northside Church\, 80 Thorn St\, Berserker\, Queensland\, 4701\, Australia
CATEGORIES:Meeting
END:VEVENT
BEGIN:VEVENT
DTSTART;TZID=Australia/Brisbane:20250514T163000
DTEND;TZID=Australia/Brisbane:20250514T173000
DTSTAMP:20260420T002527
CREATED:20250502T014015Z
LAST-MODIFIED:20250502T014225Z
UID:9467-1747240200-1747243800@lifestylecollege.com.au
SUMMARY:God's Story The Bible 2025 Assessor Video Tutorial 1
DESCRIPTION:God’s Story The Bible video tutorial call with Assessor Ray Badham\, who will go over the background and requirements for Assessment 1 due on May 30. This will be recorded so for those who cannot attend please be on watch for the updated email from Ray.
URL:https://lifestylecollege.com.au/calendar/gods-story-the-bible-assessor-video-tutorial/
LOCATION:Queensland
CATEGORIES:Meeting
END:VEVENT
END:VCALENDAR