BEGIN:VCALENDAR
VERSION:2.0
PRODID:-//Lifestyle College - ECPv6.15.17.1//NONSGML v1.0//EN
CALSCALE:GREGORIAN
METHOD:PUBLISH
X-WR-CALNAME:Lifestyle College
X-ORIGINAL-URL:https://lifestylecollege.com.au
X-WR-CALDESC:Events for Lifestyle College
REFRESH-INTERVAL;VALUE=DURATION:PT1H
X-Robots-Tag:noindex
X-PUBLISHED-TTL:PT1H
BEGIN:VTIMEZONE
TZID:Australia/Brisbane
BEGIN:STANDARD
TZOFFSETFROM:+1000
TZOFFSETTO:+1000
TZNAME:AEST
DTSTART:20250101T000000
END:STANDARD
END:VTIMEZONE
BEGIN:VEVENT
DTSTART;TZID=Australia/Brisbane:20260214T100000
DTEND;TZID=Australia/Brisbane:20260214T130000
DTSTAMP:20260420T030503
CREATED:20260210T081500Z
LAST-MODIFIED:20260210T081500Z
UID:10174-1771063200-1771074000@lifestylecollege.com.au
SUMMARY:ACC Regional Meeting
DESCRIPTION:Regional Meeting of the Leadership from Central Queensland ACC Churches. \nTime: 10am (Morning Tea) followed by a 10:30am start. Lunch to follow (RSVP required for lunch) \nLocation: MyCity Church\, Tannum Sands\, Qld \nGuest Speaker: ACC Central Queensland Regional Leader Nathan Jones (Oasis Church\, Rockhampton)
URL:https://lifestylecollege.com.au/calendar/acc-regional-meeting-4/
LOCATION:MyCity Church\, 1 Canoe Point Rd\, Tannum Sands\, Queensland\, Australia
CATEGORIES:Meeting
END:VEVENT
END:VCALENDAR