BEGIN:VCALENDAR
VERSION:2.0
PRODID:-//Lifestyle College - ECPv6.15.17.1//NONSGML v1.0//EN
CALSCALE:GREGORIAN
METHOD:PUBLISH
X-ORIGINAL-URL:https://lifestylecollege.com.au
X-WR-CALDESC:Events for Lifestyle College
REFRESH-INTERVAL;VALUE=DURATION:PT1H
X-Robots-Tag:noindex
X-PUBLISHED-TTL:PT1H
BEGIN:VTIMEZONE
TZID:Australia/Brisbane
BEGIN:STANDARD
TZOFFSETFROM:+1000
TZOFFSETTO:+1000
TZNAME:AEST
DTSTART:20250101T000000
END:STANDARD
END:VTIMEZONE
BEGIN:VEVENT
DTSTART;TZID=Australia/Brisbane:20260120T183000
DTEND;TZID=Australia/Brisbane:20260120T200000
DTSTAMP:20260420T043955
CREATED:20260106T064805Z
LAST-MODIFIED:20260106T064805Z
UID:10025-1768933800-1768939200@lifestylecollege.com.au
SUMMARY:Orientation Day for Class of 2026
DESCRIPTION:Orientation Day for the 2026 class of Lifestyle College is here\, as we welcome you to begin the process of fulfilling the call of God on your lives. It’s an exciting time to be a part of the College experience\, so congratulations to you as you begin your journey. \nThe topics we will be covering during our meeting will be:\n\n\nOpening Prayer\nWelcome from Ps Aaron Bachmann\nIntroductions\nTuition Payment info\nZoom call procedures – recorded calls\nWalkthrough of Alphacrucis online account\, including video and assessment access\nAssessment upload process and grading\nLibrary access\nDeadlines – including term dates and assessment deadlines\nIndividual 1-on-1 Follow-up Sessions\nLifestyle College Website for information\nQuestions and Answers\n\nIf you are participating on Zoom\, you’ll see the link below to access the session. The access details are: \nMeeting ID: 861 8455 1921\nPasscode: College
URL:https://lifestylecollege.com.au/calendar/orientation-day-for-class-of-2026/
LOCATION:Lifestyle College\, 2/83 Sun Valley Road\, Kin Kora\, QLD\, 4680\, Australia
CATEGORIES:Meeting
ORGANIZER;CN="Ps. Steve Luba":MAILTO:hello@lifestylecollege.com.au
END:VEVENT
END:VCALENDAR