BEGIN:VCALENDAR
VERSION:2.0
PRODID:-//Lifestyle College - ECPv6.15.17.1//NONSGML v1.0//EN
CALSCALE:GREGORIAN
METHOD:PUBLISH
X-ORIGINAL-URL:https://lifestylecollege.com.au
X-WR-CALDESC:Events for Lifestyle College
REFRESH-INTERVAL;VALUE=DURATION:PT1H
X-Robots-Tag:noindex
X-PUBLISHED-TTL:PT1H
BEGIN:VTIMEZONE
TZID:Australia/Brisbane
BEGIN:STANDARD
TZOFFSETFROM:+1000
TZOFFSETTO:+1000
TZNAME:AEST
DTSTART:20250101T000000
END:STANDARD
END:VTIMEZONE
BEGIN:VEVENT
DTSTART;TZID=Australia/Brisbane:20260313T220000
DTEND;TZID=Australia/Brisbane:20260313T223000
DTSTAMP:20260420T000511
CREATED:20260113T074301Z
LAST-MODIFIED:20260113T074301Z
UID:10123-1773439200-1773441000@lifestylecollege.com.au
SUMMARY:Applying The Bible - 2025 (Assessment 1)
DESCRIPTION:Assessment 1: Identifying Quality Resources Quiz \nDue Date: March 13 (Week 7) \nDemonstrate that you understand what constitutes a quality resource for biblical interpretation purposes\, that you know which one is relevant for particular tasks and how to find them.
URL:https://lifestylecollege.com.au/calendar/applying-the-bible-2025-assessment-1/
LOCATION:QLD
CATEGORIES:Assessment
ORGANIZER;CN="Ps. Steve Luba":MAILTO:hello@lifestylecollege.com.au
END:VEVENT
BEGIN:VEVENT
DTSTART;TZID=Australia/Brisbane:20260313T220000
DTEND;TZID=Australia/Brisbane:20260313T223000
DTSTAMP:20260420T000511
CREATED:20260117T063528Z
LAST-MODIFIED:20260117T063528Z
UID:10146-1773439200-1773441000@lifestylecollege.com.au
SUMMARY:Leading Teams 2024 - Assessment 2
DESCRIPTION:Assessment 2 – Create a team orientation document\nDue Date: Friday March 13 (Week 7) \nCreate an orientation document that can be used when inducting new team members\, communicating important information about the team and any relevant team/organisational guidelines.
URL:https://lifestylecollege.com.au/calendar/leading-teams-2024-assessment-2/
LOCATION:QLD
CATEGORIES:Assessment
ORGANIZER;CN="Ps. Steve Luba":MAILTO:hello@lifestylecollege.com.au
END:VEVENT
END:VCALENDAR