BEGIN:VCALENDAR
VERSION:2.0
PRODID:-//Lifestyle College - ECPv6.15.17.1//NONSGML v1.0//EN
CALSCALE:GREGORIAN
METHOD:PUBLISH
X-WR-CALNAME:Lifestyle College
X-ORIGINAL-URL:https://lifestylecollege.com.au
X-WR-CALDESC:Events for Lifestyle College
REFRESH-INTERVAL;VALUE=DURATION:PT1H
X-Robots-Tag:noindex
X-PUBLISHED-TTL:PT1H
BEGIN:VTIMEZONE
TZID:Australia/Brisbane
BEGIN:STANDARD
TZOFFSETFROM:+1000
TZOFFSETTO:+1000
TZNAME:AEST
DTSTART:20250101T000000
END:STANDARD
END:VTIMEZONE
BEGIN:VEVENT
DTSTART;TZID=Australia/Brisbane:20260227T220000
DTEND;TZID=Australia/Brisbane:20260227T223000
DTSTAMP:20260420T000215
CREATED:20260115T035620Z
LAST-MODIFIED:20260115T035620Z
UID:10136-1772229600-1772231400@lifestylecollege.com.au
SUMMARY:Speaking from the Platform - 2024 (Assessment 1)
DESCRIPTION:Assessment 1 – Prepare and present a speech to a group of friends/mentors/class (5-15 min). \nDue Date: Friday February 27  (Week 5) \nUsing the Assessment 1 Document\, present to a group of at least 2 familiar people and obtain feedback from them afterwards. \n(You will present it again in A2\, so make sure it is a message you can develop and research in greater depth.)
URL:https://lifestylecollege.com.au/calendar/speaking-from-the-platform-2024-assessment-1-2/
LOCATION:QLD
CATEGORIES:Assessment
ORGANIZER;CN="Ps. Steve Luba":MAILTO:hello@lifestylecollege.com.au
END:VEVENT
END:VCALENDAR