BEGIN:VCALENDAR
VERSION:2.0
PRODID:-//Lifestyle College - ECPv6.15.17.1//NONSGML v1.0//EN
CALSCALE:GREGORIAN
METHOD:PUBLISH
X-WR-CALNAME:Lifestyle College
X-ORIGINAL-URL:https://lifestylecollege.com.au
X-WR-CALDESC:Events for Lifestyle College
REFRESH-INTERVAL;VALUE=DURATION:PT1H
X-Robots-Tag:noindex
X-PUBLISHED-TTL:PT1H
BEGIN:VTIMEZONE
TZID:Australia/Brisbane
BEGIN:STANDARD
TZOFFSETFROM:+1000
TZOFFSETTO:+1000
TZNAME:AEST
DTSTART:20250101T000000
END:STANDARD
END:VTIMEZONE
BEGIN:VEVENT
DTSTART;TZID=Australia/Brisbane:20260116T220000
DTEND;TZID=Australia/Brisbane:20260116T223000
DTSTAMP:20260420T011543
CREATED:20250922T052605Z
LAST-MODIFIED:20251031T025749Z
UID:9951-1768600800-1768602600@lifestylecollege.com.au
SUMMARY:Speaking from the Platform - 2024 (Assessment 3)
DESCRIPTION:Assessment 3: Prepare and present a new presentation to a group (5-15 min) of different people \nDue Date: Friday\, January 16\, 2026 \nPrepare\, Present\, Record a video and Evaluate one of the following Ministry Message types.  \n\nCommunion\,\nDevotion\,\nAltar Call\nTithe Message.\n\nYour presentation’s topic and type must be different from that of assessments 1 and 2 and must be presented to a different audience.
URL:https://lifestylecollege.com.au/calendar/speaking-from-the-platform-2024-assessment-3/
LOCATION:QLD
CATEGORIES:Assessment
ORGANIZER;CN="Ps. Steve Luba":MAILTO:hello@lifestylecollege.com.au
END:VEVENT
BEGIN:VEVENT
DTSTART;TZID=Australia/Brisbane:20260116T220000
DTEND;TZID=Australia/Brisbane:20260116T223000
DTSTAMP:20260420T011543
CREATED:20250922T053831Z
LAST-MODIFIED:20251031T025849Z
UID:9957-1768600800-1768602600@lifestylecollege.com.au
SUMMARY:Pastoral Care - 2024 (Assessment 3)
DESCRIPTION:Assessment 3 – Care for self and others in ministry \nDue Date: Friday January 16\, 2026 \n\nExecute your self-care plan and journal your progress throughout the term.\nProvide a basic level of care to those you engage with within your church community throughout the term using the skills you have learnt in this unit. Log and reflect on your provision of care.\nAt the end of the term\, debrief with a leader in your church experienced pastoral care about your self-care and care throughout the term.
URL:https://lifestylecollege.com.au/calendar/pastoral-care-2024-assessment-3/
LOCATION:QLD
CATEGORIES:Assessment
ORGANIZER;CN="Ps. Steve Luba":MAILTO:hello@lifestylecollege.com.au
END:VEVENT
BEGIN:VEVENT
DTSTART;TZID=Australia/Brisbane:20260116T230000
DTEND;TZID=Australia/Brisbane:20260116T233000
DTSTAMP:20260420T011543
CREATED:20250919T020222Z
LAST-MODIFIED:20251031T030000Z
UID:9917-1768604400-1768606200@lifestylecollege.com.au
SUMMARY:Teamwork - 2025 (Assessment 2)
DESCRIPTION:Assessment 2: Participate in and evaluate your effectiveness within the team \nDue Date: Friday January 16\, 2026 \n\nThroughout the term\, keep a record of your participation\, the effectiveness of your participation and communication within the team.\nAt the end of the term\, provide a self–evaluation and gain a review from your team leader (or if you are leading the team from your direct supervisor) outlining your performance.
URL:https://lifestylecollege.com.au/calendar/teamwork-2025-assessment-2/
LOCATION:QLD
CATEGORIES:Assessment
ORGANIZER;CN="Ps. Steve Luba":MAILTO:hello@lifestylecollege.com.au
END:VEVENT
END:VCALENDAR