BEGIN:VCALENDAR
VERSION:2.0
PRODID:-//Lifestyle College - ECPv6.15.17.1//NONSGML v1.0//EN
CALSCALE:GREGORIAN
METHOD:PUBLISH
X-WR-CALNAME:Lifestyle College
X-ORIGINAL-URL:https://lifestylecollege.com.au
X-WR-CALDESC:Events for Lifestyle College
REFRESH-INTERVAL;VALUE=DURATION:PT1H
X-Robots-Tag:noindex
X-PUBLISHED-TTL:PT1H
BEGIN:VTIMEZONE
TZID:Australia/Brisbane
BEGIN:STANDARD
TZOFFSETFROM:+1000
TZOFFSETTO:+1000
TZNAME:AEST
DTSTART:20250101T000000
END:STANDARD
END:VTIMEZONE
BEGIN:VEVENT
DTSTART;TZID=Australia/Brisbane:20260810T080000
DTEND;TZID=Australia/Brisbane:20260810T090000
DTSTAMP:20260420T041128
CREATED:20260108T043716Z
LAST-MODIFIED:20260108T043716Z
UID:10109-1786348800-1786352400@lifestylecollege.com.au
SUMMARY:Gladstone Show Holiday
DESCRIPTION:
URL:https://lifestylecollege.com.au/calendar/gladstone-show-holiday-2/
LOCATION:QLD
END:VEVENT
END:VCALENDAR