BEGIN:VCALENDAR
VERSION:2.0
PRODID:-//Lifestyle College - ECPv6.15.17.1//NONSGML v1.0//EN
CALSCALE:GREGORIAN
METHOD:PUBLISH
X-WR-CALNAME:Lifestyle College
X-ORIGINAL-URL:https://lifestylecollege.com.au
X-WR-CALDESC:Events for Lifestyle College
REFRESH-INTERVAL;VALUE=DURATION:PT1H
X-Robots-Tag:noindex
X-PUBLISHED-TTL:PT1H
BEGIN:VTIMEZONE
TZID:Australia/Brisbane
BEGIN:STANDARD
TZOFFSETFROM:+1000
TZOFFSETTO:+1000
TZNAME:AEST
DTSTART:20250101T000000
END:STANDARD
END:VTIMEZONE
BEGIN:VEVENT
DTSTART;TZID=Australia/Brisbane:20260323T183000
DTEND;TZID=Australia/Brisbane:20260323T193000
DTSTAMP:20260419T235710
CREATED:20260108T042519Z
LAST-MODIFIED:20260131T051936Z
UID:10091-1774290600-1774294200@lifestylecollege.com.au
SUMMARY:2024 Class Electives - Week 9
DESCRIPTION:This will be the ninth and final session for the second set of electives for the Class of 2024\, with the sessions devoted to devotions\, sharing\, guest speakers and practical applications of what has been learned in the course until now. Please remember that we will not be viewing videos at these sessions\, which is a departure from previous terms. Therefore you will be responsible for watching your videos independently\, with the view towards bringing any questions and discussion to the session to share if needed. \nPlease Note: we will not be having a guest speaker for this session as this will be a celebration as we complete the final session of your last College term. \nBelow you will see the details for each elective as a reminder of which course and module to view during the week: \nNAT11088003 – Introduction to Pastoral Care \n\nUnit 8: Pastoral Care\nModule 9: Debriefing and Confidentiality\n\nBSBCMM411 – Speaking from the Platform  \n\nUnit 8: Platform\nModule 9: Evaluation and Other Types of Speaking in Ministry\n\nBSBXTW401 – Leading Teams  \n\nUnit 8: Leading Teams\nModule 9: Longevity and Succession
URL:https://lifestylecollege.com.au/calendar/2024-class-electives-week-9-2/
LOCATION:Lifestyle College\, 2/83 Sun Valley Road\, Kin Kora\, QLD\, 4680\, Australia
CATEGORIES:Lecture
ORGANIZER;CN="Ps. Steve Luba":MAILTO:hello@lifestylecollege.com.au
END:VEVENT
END:VCALENDAR