BEGIN:VCALENDAR
VERSION:2.0
PRODID:-//Lifestyle College - ECPv6.15.17.1//NONSGML v1.0//EN
CALSCALE:GREGORIAN
METHOD:PUBLISH
X-WR-CALNAME:Lifestyle College
X-ORIGINAL-URL:https://lifestylecollege.com.au
X-WR-CALDESC:Events for Lifestyle College
REFRESH-INTERVAL;VALUE=DURATION:PT1H
X-Robots-Tag:noindex
X-PUBLISHED-TTL:PT1H
BEGIN:VTIMEZONE
TZID:Australia/Brisbane
BEGIN:STANDARD
TZOFFSETFROM:+1000
TZOFFSETTO:+1000
TZNAME:AEST
DTSTART:20250101T000000
END:STANDARD
END:VTIMEZONE
BEGIN:VEVENT
DTSTART;TZID=Australia/Brisbane:20260219T190000
DTEND;TZID=Australia/Brisbane:20260219T203000
DTSTAMP:20260420T011400
CREATED:20260108T002455Z
LAST-MODIFIED:20260108T002455Z
UID:10036-1771527600-1771533000@lifestylecollege.com.au
SUMMARY:Applying The Bible - 2025 Module 4
DESCRIPTION:NAT11088006 – Interpret the Bible for personal and communal edification \n\nUnit 5: Applying the Bible\nModule 4: Old Testament Genres
URL:https://lifestylecollege.com.au/calendar/applying-the-bible-2025-module-4/
LOCATION:Lifestyle College\, 2/83 Sun Valley Road\, Kin Kora\, QLD\, 4680\, Australia
CATEGORIES:Lecture
ORGANIZER;CN="Ps. Steve Luba":MAILTO:hello@lifestylecollege.com.au
END:VEVENT
END:VCALENDAR