BEGIN:VCALENDAR
VERSION:2.0
PRODID:-//Lifestyle College - ECPv6.15.17.1//NONSGML v1.0//EN
CALSCALE:GREGORIAN
METHOD:PUBLISH
X-ORIGINAL-URL:https://lifestylecollege.com.au
X-WR-CALDESC:Events for Lifestyle College
REFRESH-INTERVAL;VALUE=DURATION:PT1H
X-Robots-Tag:noindex
X-PUBLISHED-TTL:PT1H
BEGIN:VTIMEZONE
TZID:Australia/Brisbane
BEGIN:STANDARD
TZOFFSETFROM:+1000
TZOFFSETTO:+1000
TZNAME:AEST
DTSTART:20250101T000000
END:STANDARD
END:VTIMEZONE
BEGIN:VEVENT
DTSTART;TZID=Australia/Brisbane:20260126T080000
DTEND;TZID=Australia/Brisbane:20260126T090000
DTSTAMP:20260420T011544
CREATED:20260106T054346Z
LAST-MODIFIED:20260106T054346Z
UID:10018-1769414400-1769418000@lifestylecollege.com.au
SUMMARY:Term 1 Begins This Week
DESCRIPTION:
URL:https://lifestylecollege.com.au/calendar/term-1-begins-this-week/
LOCATION:Lifestyle College\, 2/83 Sun Valley Road\, Kin Kora\, QLD\, 4680\, Australia
ORGANIZER;CN="Ps. Steve Luba":MAILTO:hello@lifestylecollege.com.au
END:VEVENT
BEGIN:VEVENT
DTSTART;TZID=Australia/Brisbane:20260126T183000
DTEND;TZID=Australia/Brisbane:20260126T193000
DTSTAMP:20260420T011544
CREATED:20260106T062855Z
LAST-MODIFIED:20260106T062855Z
UID:10020-1769452200-1769455800@lifestylecollege.com.au
SUMMARY:2024 Class Electives - Week 1
DESCRIPTION:This will be the first session for the second set of electives for the Class of 2024\, with the sessions devoted to devotions\, sharing\, guest speakers and practical applications of what has been learned in the course until now. Please remember that we will not be viewing videos at these sessions\, which is a departure from previous terms. Therefore you will be responsible for watching your videos independently\, with the view towards bringing any questions and discussion to the session to share if needed. \nGuest Speaker: Ps Aaron Bachmann \nBelow you will see the details for each elective as a reminder of which course and module to view during the week: \nNAT11088003 – Introduction to Pastoral Care \n\nUnit 8: Pastoral Care\nModule 1: What is Pastoral Care?\n\nBSBCMM411 – Speaking from the Platform  \n\nUnit 8: Platform\nModule 1: The purpose of Speaking in a ministry setting\n\nBSBXTW401 – Leading Teams  \n\nUnit 8: Leading Teams\nModule 1: Introduction to Leading Teams
URL:https://lifestylecollege.com.au/calendar/2024-class-electives-week-1-2/
LOCATION:Lifestyle College\, 2/83 Sun Valley Road\, Kin Kora\, QLD\, 4680\, Australia
CATEGORIES:Lecture
ORGANIZER;CN="Ps. Steve Luba":MAILTO:hello@lifestylecollege.com.au
END:VEVENT
END:VCALENDAR