BEGIN:VCALENDAR
VERSION:2.0
PRODID:-//Lifestyle College - ECPv6.15.17.1//NONSGML v1.0//EN
CALSCALE:GREGORIAN
METHOD:PUBLISH
X-ORIGINAL-URL:https://lifestylecollege.com.au
X-WR-CALDESC:Events for Lifestyle College
REFRESH-INTERVAL;VALUE=DURATION:PT1H
X-Robots-Tag:noindex
X-PUBLISHED-TTL:PT1H
BEGIN:VTIMEZONE
TZID:Australia/Brisbane
BEGIN:STANDARD
TZOFFSETFROM:+1000
TZOFFSETTO:+1000
TZNAME:AEST
DTSTART:20240101T000000
END:STANDARD
END:VTIMEZONE
BEGIN:VEVENT
DTSTART;TZID=Australia/Brisbane:20251221T090000
DTEND;TZID=Australia/Brisbane:20251221T120000
DTSTAMP:20260420T054210
CREATED:20251031T030528Z
LAST-MODIFIED:20251031T030528Z
UID:10001-1766307600-1766318400@lifestylecollege.com.au
SUMMARY:Last Lifestyle Church Service of 2025
DESCRIPTION:Due to the annual Summer Sabbatical\, Sunday December 21 will be the last church service of the year across all Lifestyle Church locations. \nHave a wonderful Christmas break and we’ll see you again in the New Year. \nBless you all heaps and Merry Christmas. \nPs Steve
URL:https://lifestylecollege.com.au/calendar/last-lifestyle-church-service-of-2025/
LOCATION:Lifestyle Church\, 2/83 Sun Valley Rd\, Kin Kora\, Qld\, 4680
CATEGORIES:Meeting
ORGANIZER;CN="Ps. Steve Luba":MAILTO:hello@lifestylecollege.com.au
END:VEVENT
END:VCALENDAR