BEGIN:VCALENDAR
VERSION:2.0
PRODID:-//Lifestyle College - ECPv6.15.17.1//NONSGML v1.0//EN
CALSCALE:GREGORIAN
METHOD:PUBLISH
X-ORIGINAL-URL:https://lifestylecollege.com.au
X-WR-CALDESC:Events for Lifestyle College
REFRESH-INTERVAL;VALUE=DURATION:PT1H
X-Robots-Tag:noindex
X-PUBLISHED-TTL:PT1H
BEGIN:VTIMEZONE
TZID:Australia/Brisbane
BEGIN:STANDARD
TZOFFSETFROM:+1000
TZOFFSETTO:+1000
TZNAME:AEST
DTSTART:20240101T000000
END:STANDARD
END:VTIMEZONE
BEGIN:VEVENT
DTSTART;TZID=Australia/Brisbane:20251122T173000
DTEND;TZID=Australia/Brisbane:20251122T200000
DTSTAMP:20260420T054213
CREATED:20250922T041426Z
LAST-MODIFIED:20250922T041614Z
UID:9925-1763832600-1763841600@lifestylecollege.com.au
SUMMARY:ALL IN Team Night End of Year Celebration
DESCRIPTION:Save the date! The ALL IN Team Night is coming soon! This will include our end of year Team Celebration all in one!\n\nMD’s\, please ensure your team is aware of this special night!\n\nSenior Ps Aaron will also be joining us on this special night!\n\nMore details to follow.
URL:https://lifestylecollege.com.au/calendar/all-in-team-night-end-of-year-celebration/
LOCATION:Lifestyle Church\, 2/83 Sun Valley Rd\, Kin Kora\, Qld\, 4680
CATEGORIES:Meeting
END:VEVENT
END:VCALENDAR