BEGIN:VCALENDAR
VERSION:2.0
PRODID:-//Lifestyle College - ECPv6.15.17.1//NONSGML v1.0//EN
CALSCALE:GREGORIAN
METHOD:PUBLISH
X-WR-CALNAME:Lifestyle College
X-ORIGINAL-URL:https://lifestylecollege.com.au
X-WR-CALDESC:Events for Lifestyle College
REFRESH-INTERVAL;VALUE=DURATION:PT1H
X-Robots-Tag:noindex
X-PUBLISHED-TTL:PT1H
BEGIN:VTIMEZONE
TZID:Australia/Brisbane
BEGIN:STANDARD
TZOFFSETFROM:+1000
TZOFFSETTO:+1000
TZNAME:AEST
DTSTART:20240101T000000
END:STANDARD
END:VTIMEZONE
BEGIN:VEVENT
DTSTART;TZID=Australia/Brisbane:20251121T230000
DTEND;TZID=Australia/Brisbane:20251121T233000
DTSTAMP:20260420T053943
CREATED:20250919T020617Z
LAST-MODIFIED:20250919T020618Z
UID:9919-1763766000-1763767800@lifestylecollege.com.au
SUMMARY:Teamwork - 2025 (Assessment 3)
DESCRIPTION:Assessment 3: Using resources from your church\, create a communication policy document for your team \nDue Date: Friday November 21 (Week 6) \nResearch your churches policies and procedures\, then develop a policies and procedures guide for communication in your team
URL:https://lifestylecollege.com.au/calendar/teamwork-2025-assessment-3/
LOCATION:QLD
CATEGORIES:Assessment
ORGANIZER;CN="Ps. Steve Luba":MAILTO:hello@lifestylecollege.com.au
END:VEVENT
END:VCALENDAR