BEGIN:VCALENDAR
VERSION:2.0
PRODID:-//Lifestyle College - ECPv6.15.17.1//NONSGML v1.0//EN
CALSCALE:GREGORIAN
METHOD:PUBLISH
X-ORIGINAL-URL:https://lifestylecollege.com.au
X-WR-CALDESC:Events for Lifestyle College
REFRESH-INTERVAL;VALUE=DURATION:PT1H
X-Robots-Tag:noindex
X-PUBLISHED-TTL:PT1H
BEGIN:VTIMEZONE
TZID:Australia/Brisbane
BEGIN:STANDARD
TZOFFSETFROM:+1000
TZOFFSETTO:+1000
TZNAME:AEST
DTSTART:20240101T000000
END:STANDARD
END:VTIMEZONE
BEGIN:VEVENT
DTSTART;TZID=Australia/Brisbane:20251118T183000
DTEND;TZID=Australia/Brisbane:20251118T200000
DTSTAMP:20260420T054210
CREATED:20250922T044659Z
LAST-MODIFIED:20251119T025314Z
UID:9937-1763490600-1763496000@lifestylecollege.com.au
SUMMARY:2024 Class Electives - Week 6
DESCRIPTION:This will be the Week 6 session for the electives\, with the sessions devoted to devotions\, sharing\, guest speakers and practical applications of what has been learned in the course until now. Since we will not be viewing videos at these sessions\, you will be responsible for watching your videos independently\, with the view towards bringing any questions and discussion to the session to share if needed. \nBelow are the details for each elective as a reminder of which course and module to view during the week: \nNAT11088003 – Introduction to Pastoral Care \n\nUnit 7: Pastoral Care\nModule 6: Responding to spiritual questions\n\nBSBCMM411 – Speaking from the Platform  \n\nUnit 7: Platform\nModule 6: Speech Structure
URL:https://lifestylecollege.com.au/calendar/2024-class-electives-week-6/
LOCATION:Lifestyle College\, 2/83 Sun Valley Road\, Kin Kora\, QLD\, 4680\, Australia
CATEGORIES:Lecture
ORGANIZER;CN="Ps. Steve Luba":MAILTO:hello@lifestylecollege.com.au
END:VEVENT
END:VCALENDAR