BEGIN:VCALENDAR
VERSION:2.0
PRODID:-//Lifestyle College - ECPv6.15.17.1//NONSGML v1.0//EN
CALSCALE:GREGORIAN
METHOD:PUBLISH
X-WR-CALNAME:Lifestyle College
X-ORIGINAL-URL:https://lifestylecollege.com.au
X-WR-CALDESC:Events for Lifestyle College
REFRESH-INTERVAL;VALUE=DURATION:PT1H
X-Robots-Tag:noindex
X-PUBLISHED-TTL:PT1H
BEGIN:VTIMEZONE
TZID:Australia/Brisbane
BEGIN:STANDARD
TZOFFSETFROM:+1000
TZOFFSETTO:+1000
TZNAME:AEST
DTSTART:20240101T000000
END:STANDARD
END:VTIMEZONE
BEGIN:VEVENT
DTSTART;TZID=Australia/Brisbane:20251031T220000
DTEND;TZID=Australia/Brisbane:20251031T223000
DTSTAMP:20260420T053914
CREATED:20250922T053407Z
LAST-MODIFIED:20250922T053407Z
UID:9953-1761948000-1761949800@lifestylecollege.com.au
SUMMARY:Pastoral Care - 2024 (Assessment 1)
DESCRIPTION:Assessment 1 – Plan to undertake self-care \nDue Date: Friday October 31 (Week 3) \nWith the help of a leader within the church who has experience in pastoral care\, develop a 6-week plan to meet three self-care goals throughout the term.
URL:https://lifestylecollege.com.au/calendar/pastoral-care-2024-assessment-1/
LOCATION:QLD
CATEGORIES:Assessment
ORGANIZER;CN="Ps. Steve Luba":MAILTO:hello@lifestylecollege.com.au
END:VEVENT
BEGIN:VEVENT
DTSTART;TZID=Australia/Brisbane:20251031T230000
DTEND;TZID=Australia/Brisbane:20251031T233000
DTSTAMP:20260420T053914
CREATED:20250919T015838Z
LAST-MODIFIED:20250919T015838Z
UID:9915-1761951600-1761953400@lifestylecollege.com.au
SUMMARY:Teamwork - 2025 (Assessment 1)
DESCRIPTION:Assessment 1: Understand your team \nDue Date: Friday October 31 (Week 3) \nUsing the assessment instructions found under the assessment tile: \n\nIdentify and describe your team and its role within the church.\nIdentify and describe your own role within the team
URL:https://lifestylecollege.com.au/calendar/teamwork-2025-assessment-1/
LOCATION:QLD
CATEGORIES:Assessment
ORGANIZER;CN="Ps. Steve Luba":MAILTO:hello@lifestylecollege.com.au
END:VEVENT
END:VCALENDAR