BEGIN:VCALENDAR
VERSION:2.0
PRODID:-//Lifestyle College - ECPv6.15.17.1//NONSGML v1.0//EN
CALSCALE:GREGORIAN
METHOD:PUBLISH
X-ORIGINAL-URL:https://lifestylecollege.com.au
X-WR-CALDESC:Events for Lifestyle College
REFRESH-INTERVAL;VALUE=DURATION:PT1H
X-Robots-Tag:noindex
X-PUBLISHED-TTL:PT1H
BEGIN:VTIMEZONE
TZID:Australia/Brisbane
BEGIN:STANDARD
TZOFFSETFROM:+1000
TZOFFSETTO:+1000
TZNAME:AEST
DTSTART:20240101T000000
END:STANDARD
END:VTIMEZONE
BEGIN:VEVENT
DTSTART;TZID=Australia/Brisbane:20251025T090000
DTEND;TZID=Australia/Brisbane:20251025T160000
DTSTAMP:20260419T225358
CREATED:20250922T041135Z
LAST-MODIFIED:20250922T041721Z
UID:9923-1761382800-1761408000@lifestylecollege.com.au
SUMMARY:GLS Global Leadership Summit Leadership Day
DESCRIPTION:Saturday\, 25th October 2025\, we will be hosting the Global Leadership Summit (GLS) Leadership Day with Ps Dan Gunter in the Auditorium from 9:00 AM to 4:00 PM.\n\n-We have 25 spots available for MD’s / 2IC’s & CG Leaders –\n\nThis dynamic one-day conference is designed to inspire and equip leaders with practical tools and fresh insights to lead with lasting influence.\n\n Date: Saturday\, 25th October 2025 Time: 9:00 AM – 4:00 PM Location: Lifestyle Church Auditorium\n\nStay tuned for more details and registration information coming soon. In the meantime\, mark your calendars!
URL:https://lifestylecollege.com.au/calendar/gls-global-leadership-summit-leadership-day/
LOCATION:Lifestyle Church\, 2/83 Sun Valley Rd\, Kin Kora\, Qld\, 4680
CATEGORIES:Meeting
END:VEVENT
END:VCALENDAR