BEGIN:VCALENDAR
VERSION:2.0
PRODID:-//Lifestyle College - ECPv6.15.17.1//NONSGML v1.0//EN
CALSCALE:GREGORIAN
METHOD:PUBLISH
X-ORIGINAL-URL:https://lifestylecollege.com.au
X-WR-CALDESC:Events for Lifestyle College
REFRESH-INTERVAL;VALUE=DURATION:PT1H
X-Robots-Tag:noindex
X-PUBLISHED-TTL:PT1H
BEGIN:VTIMEZONE
TZID:Australia/Brisbane
BEGIN:STANDARD
TZOFFSETFROM:+1000
TZOFFSETTO:+1000
TZNAME:AEST
DTSTART:20240101T000000
END:STANDARD
END:VTIMEZONE
BEGIN:VEVENT
DTSTART;TZID=Australia/Brisbane:20250915T080000
DTEND;TZID=Australia/Brisbane:20250915T233000
DTSTAMP:20260420T075510
CREATED:20250709T063324Z
LAST-MODIFIED:20250801T005920Z
UID:9753-1757923200-1757979000@lifestylecollege.com.au
SUMMARY:Discipleship 1 - 2025 (Assessment 2 Quiz Opens)
DESCRIPTION:Assessment 2 – Knowledge Quiz. \nOpens: Monday\, September 15 (start of Week 9) \nCloses: either 5 days after it is opened OR 11:55PM Friday October 10 (week 12)\, whichever comes first. \nYou will find access to the quiz under the Assessment tile in Moodle. \nYou will be given 3 attempts to score 100%. Failing to attain mark of 100% or higher will result in a Not Yet Satisfactory grade for this assessment.
URL:https://lifestylecollege.com.au/calendar/discipleship-1-2025-assessment-2/
LOCATION:QLD
CATEGORIES:Assessment
ORGANIZER;CN="Ps. Steve Luba":MAILTO:hello@lifestylecollege.com.au
END:VEVENT
END:VCALENDAR