BEGIN:VCALENDAR
VERSION:2.0
PRODID:-//Lifestyle College - ECPv6.15.17.1//NONSGML v1.0//EN
CALSCALE:GREGORIAN
METHOD:PUBLISH
X-WR-CALNAME:Lifestyle College
X-ORIGINAL-URL:https://lifestylecollege.com.au
X-WR-CALDESC:Events for Lifestyle College
REFRESH-INTERVAL;VALUE=DURATION:PT1H
X-Robots-Tag:noindex
X-PUBLISHED-TTL:PT1H
BEGIN:VTIMEZONE
TZID:Australia/Brisbane
BEGIN:STANDARD
TZOFFSETFROM:+1000
TZOFFSETTO:+1000
TZNAME:AEST
DTSTART:20240101T000000
END:STANDARD
END:VTIMEZONE
BEGIN:VEVENT
DTSTART;TZID=Australia/Brisbane:20250816T100000
DTEND;TZID=Australia/Brisbane:20250816T130000
DTSTAMP:20260420T052855
CREATED:20250709T064718Z
LAST-MODIFIED:20250709T065141Z
UID:9764-1755338400-1755349200@lifestylecollege.com.au
SUMMARY:ACC Regional Meeting
DESCRIPTION:Regional Meeting of the Leadership from Central Queensland ACC Churches. \nTime: 10am (Morning Tea) followed by a 10:30am start. Lunch to follow (RSVP required for lunch) \nLocation: Next Level Church\, 59 Gladstone Rd.\, Biloela\, Qld 4715
URL:https://lifestylecollege.com.au/calendar/acc-regional-meeting-2/
LOCATION:Next Level Church\, 59 Gladstone Rd\, Biloela\, Qld\, 4715\, Australia
CATEGORIES:Meeting
END:VEVENT
END:VCALENDAR