BEGIN:VCALENDAR
VERSION:2.0
PRODID:-//Lifestyle College - ECPv6.15.17.1//NONSGML v1.0//EN
CALSCALE:GREGORIAN
METHOD:PUBLISH
X-WR-CALNAME:Lifestyle College
X-ORIGINAL-URL:https://lifestylecollege.com.au
X-WR-CALDESC:Events for Lifestyle College
REFRESH-INTERVAL;VALUE=DURATION:PT1H
X-Robots-Tag:noindex
X-PUBLISHED-TTL:PT1H
BEGIN:VTIMEZONE
TZID:Australia/Brisbane
BEGIN:STANDARD
TZOFFSETFROM:+1000
TZOFFSETTO:+1000
TZNAME:AEST
DTSTART:20240101T000000
END:STANDARD
END:VTIMEZONE
BEGIN:VEVENT
DTSTART;TZID=Australia/Brisbane:20250808T230000
DTEND;TZID=Australia/Brisbane:20250808T233000
DTSTAMP:20260420T034448
CREATED:20250709T054420Z
LAST-MODIFIED:20250709T054420Z
UID:9728-1754694000-1754695800@lifestylecollege.com.au
SUMMARY:Discipleship 2 - 2024 (Assessment 1)
DESCRIPTION:Assessment 1 – Develop a plan to disciple another church member to enable growth over 8 weeks (about 2 months). \nDue Date: August 8 (Week 3) \nFind a person to disciple within your church\, then collaborate with them and develop a discipleship plan for at least 8 weeks (about 2 months). This must include at least four formal meetings (discussing the discipleship plan\, goals\, progress\, etc.) and at least two informal connections (phone calls\, text messages\, conversing in the foyer at church\, etc.) \nYou will need to obtain consent from the disciple to create a written record of the process throughout the term
URL:https://lifestylecollege.com.au/calendar/discipleship-2-2024-assessment-1/
LOCATION:QLD
CATEGORIES:Assessment
ORGANIZER;CN="Ps. Steve Luba":MAILTO:hello@lifestylecollege.com.au
END:VEVENT
END:VCALENDAR