BEGIN:VCALENDAR
VERSION:2.0
PRODID:-//Lifestyle College - ECPv6.15.17.1//NONSGML v1.0//EN
CALSCALE:GREGORIAN
METHOD:PUBLISH
X-WR-CALNAME:Lifestyle College
X-ORIGINAL-URL:https://lifestylecollege.com.au
X-WR-CALDESC:Events for Lifestyle College
REFRESH-INTERVAL;VALUE=DURATION:PT1H
X-Robots-Tag:noindex
X-PUBLISHED-TTL:PT1H
BEGIN:VTIMEZONE
TZID:Australia/Brisbane
BEGIN:STANDARD
TZOFFSETFROM:+1000
TZOFFSETTO:+1000
TZNAME:AEST
DTSTART:20240101T000000
END:STANDARD
END:VTIMEZONE
BEGIN:VEVENT
DTSTART;TZID=Australia/Brisbane:20250805T183000
DTEND;TZID=Australia/Brisbane:20250805T203000
DTSTAMP:20260420T131012
CREATED:20250709T051733Z
LAST-MODIFIED:20250720T054451Z
UID:9712-1754418600-1754425800@lifestylecollege.com.au
SUMMARY:Discipleship 2 - 2024 Module 3
DESCRIPTION:NAT11088002 – Disciple a church member \n\nUnit 6: Discipleship 2\nModule 3: Holy Spirit in Discipleship
URL:https://lifestylecollege.com.au/calendar/discipleship-2-2024-module-3/
LOCATION:Lifestyle College\, 2/83 Sun Valley Road\, Kin Kora\, QLD\, 4680\, Australia
CATEGORIES:Lecture
ORGANIZER;CN="Ps. Steve Luba":MAILTO:hello@lifestylecollege.com.au
END:VEVENT
END:VCALENDAR