BEGIN:VCALENDAR
VERSION:2.0
PRODID:-//Lifestyle College - ECPv6.15.17.1//NONSGML v1.0//EN
CALSCALE:GREGORIAN
METHOD:PUBLISH
X-ORIGINAL-URL:https://lifestylecollege.com.au
X-WR-CALDESC:Events for Lifestyle College
REFRESH-INTERVAL;VALUE=DURATION:PT1H
X-Robots-Tag:noindex
X-PUBLISHED-TTL:PT1H
BEGIN:VTIMEZONE
TZID:Australia/Brisbane
BEGIN:STANDARD
TZOFFSETFROM:+1000
TZOFFSETTO:+1000
TZNAME:AEST
DTSTART:20240101T000000
END:STANDARD
END:VTIMEZONE
BEGIN:VEVENT
DTSTART;TZID=Australia/Brisbane:20250714T080000
DTEND;TZID=Australia/Brisbane:20250718T233000
DTSTAMP:20260420T144440
CREATED:20250507T005311Z
LAST-MODIFIED:20250507T005311Z
UID:9500-1752480000-1752881400@lifestylecollege.com.au
SUMMARY:Ps Steve on Holidays
DESCRIPTION:
URL:https://lifestylecollege.com.au/calendar/ps-steve-on-holidays/
LOCATION:QLD
CATEGORIES:Social
END:VEVENT
BEGIN:VEVENT
DTSTART;TZID=Australia/Brisbane:20250718T230000
DTEND;TZID=Australia/Brisbane:20250718T233000
DTSTAMP:20260420T144440
CREATED:20250423T111237Z
LAST-MODIFIED:20250502T013253Z
UID:9422-1752879600-1752881400@lifestylecollege.com.au
SUMMARY:Applying The Bible - 2024 (Assessment 2)
DESCRIPTION:Assessment 2 – Develop a New Testament devotion \nDue Date: July 18 (Week 12) \nUse interpretive methods to interpret a New Testament passage from which you develop a brief devotional message for a small group which shows them how they can apply/respond to the passage in their life.
URL:https://lifestylecollege.com.au/calendar/certificate-iv-in-ministry-and-discipleship-2024-a2/
LOCATION:Lifestyle College\, 2/83 Sun Valley Road\, Kin Kora\, QLD\, 4680\, Australia
CATEGORIES:Assessment
ORGANIZER;CN="Ps. Steve Luba":MAILTO:hello@lifestylecollege.com.au
END:VEVENT
BEGIN:VEVENT
DTSTART;TZID=Australia/Brisbane:20250718T230000
DTEND;TZID=Australia/Brisbane:20250718T233000
DTSTAMP:20260420T144440
CREATED:20250423T111455Z
LAST-MODIFIED:20250502T013218Z
UID:9424-1752879600-1752881400@lifestylecollege.com.au
SUMMARY:Applying The Bible - 2024 (Assessment 3)
DESCRIPTION:Assessment 3 – Personal reflection on interpretation \nDue Date: July 18 (Week 12) \n200-500 words \nNB: This reflection cannot be accessed until you have submitted Assessment 2\, so you will need to manage your time well to ensure you have enough time to access the reflection question and respond before the due date cut off.
URL:https://lifestylecollege.com.au/calendar/certificate-iv-in-ministry-and-discipleship-2024-a3/
LOCATION:Lifestyle College\, 2/83 Sun Valley Road\, Kin Kora\, QLD\, 4680\, Australia
CATEGORIES:Assessment
ORGANIZER;CN="Ps. Steve Luba":MAILTO:hello@lifestylecollege.com.au
END:VEVENT
BEGIN:VEVENT
DTSTART;TZID=Australia/Brisbane:20250718T230000
DTEND;TZID=Australia/Brisbane:20250718T233000
DTSTAMP:20260420T144440
CREATED:20250423T112425Z
LAST-MODIFIED:20250502T013123Z
UID:9431-1752879600-1752881400@lifestylecollege.com.au
SUMMARY:God's Story The Bible - 2025 (Assessment 3)
DESCRIPTION:Assessment 3 \nDue date: July 18 (Week 12) \nRecord a video of yourself responding to the following question from a person who is early in their discipleship journey: \nQ: So\, what’s the Bible all about anyway? \nYour response should consist of an overview of the Bible’s structure\, narrative and major themes and be based on all nine weeks of the lectures of this unit.
URL:https://lifestylecollege.com.au/calendar/certificate-iv-in-ministry-and-discipleship-2025-a3/
LOCATION:Lifestyle College\, 2/83 Sun Valley Road\, Kin Kora\, QLD\, 4680\, Australia
CATEGORIES:Assessment
ORGANIZER;CN="Ps. Steve Luba":MAILTO:hello@lifestylecollege.com.au
END:VEVENT
END:VCALENDAR