BEGIN:VCALENDAR
VERSION:2.0
PRODID:-//Lifestyle College - ECPv6.15.17.1//NONSGML v1.0//EN
CALSCALE:GREGORIAN
METHOD:PUBLISH
X-ORIGINAL-URL:https://lifestylecollege.com.au
X-WR-CALDESC:Events for Lifestyle College
REFRESH-INTERVAL;VALUE=DURATION:PT1H
X-Robots-Tag:noindex
X-PUBLISHED-TTL:PT1H
BEGIN:VTIMEZONE
TZID:Australia/Brisbane
BEGIN:STANDARD
TZOFFSETFROM:+1000
TZOFFSETTO:+1000
TZNAME:AEST
DTSTART:20240101T000000
END:STANDARD
END:VTIMEZONE
BEGIN:VEVENT
DTSTART;TZID=Australia/Brisbane:20250714T080000
DTEND;TZID=Australia/Brisbane:20250718T233000
DTSTAMP:20260419T125413
CREATED:20250507T005311Z
LAST-MODIFIED:20250507T005311Z
UID:9500-1752480000-1752881400@lifestylecollege.com.au
SUMMARY:Ps Steve on Holidays
DESCRIPTION:
URL:https://lifestylecollege.com.au/calendar/ps-steve-on-holidays/
LOCATION:QLD
CATEGORIES:Social
END:VEVENT
END:VCALENDAR