BEGIN:VCALENDAR
VERSION:2.0
PRODID:-//Lifestyle College - ECPv6.15.17.1//NONSGML v1.0//EN
CALSCALE:GREGORIAN
METHOD:PUBLISH
X-WR-CALNAME:Lifestyle College
X-ORIGINAL-URL:https://lifestylecollege.com.au
X-WR-CALDESC:Events for Lifestyle College
REFRESH-INTERVAL;VALUE=DURATION:PT1H
X-Robots-Tag:noindex
X-PUBLISHED-TTL:PT1H
BEGIN:VTIMEZONE
TZID:Australia/Brisbane
BEGIN:STANDARD
TZOFFSETFROM:+1000
TZOFFSETTO:+1000
TZNAME:AEST
DTSTART:20240101T000000
END:STANDARD
END:VTIMEZONE
BEGIN:VEVENT
DTSTART;TZID=Australia/Brisbane:20250627T080000
DTEND;TZID=Australia/Brisbane:20250627T170000
DTSTAMP:20260419T053343
CREATED:20250502T013401Z
LAST-MODIFIED:20250502T013401Z
UID:9463-1751011200-1751043600@lifestylecollege.com.au
SUMMARY:Term 2 Ends
DESCRIPTION:
URL:https://lifestylecollege.com.au/calendar/term-2-ends/
LOCATION:Lifestyle College\, 2/83 Sun Valley Road\, Kin Kora\, QLD\, 4680\, Australia
ORGANIZER;CN="Ps. Steve Luba":MAILTO:hello@lifestylecollege.com.au
END:VEVENT
BEGIN:VEVENT
DTSTART;TZID=Australia/Brisbane:20250627T230000
DTEND;TZID=Australia/Brisbane:20250627T233000
DTSTAMP:20260419T053343
CREATED:20250423T111004Z
LAST-MODIFIED:20250502T012706Z
UID:9420-1751065200-1751067000@lifestylecollege.com.au
SUMMARY:Applying The Bible - 2024 (Assessment 1)
DESCRIPTION:Assessment 1 – Develop an Old Testament devotion \nDue Date: June 27 (Week 9) \nUse interpretive methods to interpret an Old Testament passage from which you develop a brief devotional message for a small group which shows them how they can apply/respond to the passage in their life.
URL:https://lifestylecollege.com.au/calendar/certificate-iv-in-ministry-and-discipleship-2024-a1/
LOCATION:QLD
CATEGORIES:Assessment
ORGANIZER;CN="Ps. Steve Luba":MAILTO:hello@lifestylecollege.com.au
END:VEVENT
BEGIN:VEVENT
DTSTART;TZID=Australia/Brisbane:20250627T230000
DTEND;TZID=Australia/Brisbane:20250627T233000
DTSTAMP:20260419T053343
CREATED:20250423T112128Z
LAST-MODIFIED:20250502T012848Z
UID:9429-1751065200-1751067000@lifestylecollege.com.au
SUMMARY:God's Story The Bible - 2025 (Assessment 2)
DESCRIPTION:Assessment 2 \nDue date: June 27 (Week 9) \nCreate a tool which can aid your explanation of God’s Story to a disciple.
URL:https://lifestylecollege.com.au/calendar/certificate-iv-in-ministry-and-discipleship-2025-a2/
LOCATION:QLD
CATEGORIES:Assessment
ORGANIZER;CN="Ps. Steve Luba":MAILTO:hello@lifestylecollege.com.au
END:VEVENT
END:VCALENDAR