BEGIN:VCALENDAR
VERSION:2.0
PRODID:-//Lifestyle College - ECPv6.15.17.1//NONSGML v1.0//EN
CALSCALE:GREGORIAN
METHOD:PUBLISH
X-ORIGINAL-URL:https://lifestylecollege.com.au
X-WR-CALDESC:Events for Lifestyle College
REFRESH-INTERVAL;VALUE=DURATION:PT1H
X-Robots-Tag:noindex
X-PUBLISHED-TTL:PT1H
BEGIN:VTIMEZONE
TZID:Australia/Brisbane
BEGIN:STANDARD
TZOFFSETFROM:+1000
TZOFFSETTO:+1000
TZNAME:AEST
DTSTART:20240101T000000
END:STANDARD
END:VTIMEZONE
BEGIN:VEVENT
DTSTART;TZID=Australia/Brisbane:20250530T230000
DTEND;TZID=Australia/Brisbane:20250530T233000
DTSTAMP:20260420T161601
CREATED:20250423T111926Z
LAST-MODIFIED:20250502T011913Z
UID:9427-1748646000-1748647800@lifestylecollege.com.au
SUMMARY:God's Story The Bible - 2025 (Assessment 1)
DESCRIPTION:Assessment 1 \nDue date: May 30 (Week 5) \nCreate a personalised long-term plan of how you will continue to develop your biblical literacy over your lifetime.
URL:https://lifestylecollege.com.au/calendar/certificate-iv-in-ministry-and-discipleship-2025-a1/
LOCATION:QLD
CATEGORIES:Assessment
ORGANIZER;CN="Ps. Steve Luba":MAILTO:hello@lifestylecollege.com.au
END:VEVENT
END:VCALENDAR