BEGIN:VCALENDAR
VERSION:2.0
PRODID:-//Lifestyle College - ECPv6.15.17.1//NONSGML v1.0//EN
CALSCALE:GREGORIAN
METHOD:PUBLISH
X-WR-CALNAME:Lifestyle College
X-ORIGINAL-URL:https://lifestylecollege.com.au
X-WR-CALDESC:Events for Lifestyle College
REFRESH-INTERVAL;VALUE=DURATION:PT1H
X-Robots-Tag:noindex
X-PUBLISHED-TTL:PT1H
BEGIN:VTIMEZONE
TZID:Australia/Brisbane
BEGIN:STANDARD
TZOFFSETFROM:+1000
TZOFFSETTO:+1000
TZNAME:AEST
DTSTART:20240101T000000
END:STANDARD
END:VTIMEZONE
BEGIN:VEVENT
DTSTART;TZID=Australia/Brisbane:20250515T183000
DTEND;TZID=Australia/Brisbane:20250515T203000
DTSTAMP:20260420T174649
CREATED:20250422T111225Z
LAST-MODIFIED:20250507T003356Z
UID:9388-1747333800-1747341000@lifestylecollege.com.au
SUMMARY:God's Story the Bible - 2025 Module 3
DESCRIPTION:NAT11088005 – Create tools facilitating the learning and communication of the Bible \n\nUnit 2: God’s Story: The Bible\nModule 3: The Exodus and New Testament Canon
URL:https://lifestylecollege.com.au/calendar/certificate-iv-in-ministry-and-discipleship-2025-3/
LOCATION:Lifestyle College\, 2/83 Sun Valley Road\, Kin Kora\, QLD\, 4680\, Australia
CATEGORIES:Lecture
ORGANIZER;CN="Ps. Steve Luba":MAILTO:hello@lifestylecollege.com.au
END:VEVENT
END:VCALENDAR