BEGIN:VCALENDAR
VERSION:2.0
PRODID:-//Lifestyle College - ECPv6.15.17.1//NONSGML v1.0//EN
CALSCALE:GREGORIAN
METHOD:PUBLISH
X-WR-CALNAME:Lifestyle College
X-ORIGINAL-URL:https://lifestylecollege.com.au
X-WR-CALDESC:Events for Lifestyle College
REFRESH-INTERVAL;VALUE=DURATION:PT1H
X-Robots-Tag:noindex
X-PUBLISHED-TTL:PT1H
BEGIN:VTIMEZONE
TZID:Australia/Brisbane
BEGIN:STANDARD
TZOFFSETFROM:+1000
TZOFFSETTO:+1000
TZNAME:AEST
DTSTART:20240101T000000
END:STANDARD
END:VTIMEZONE
BEGIN:VEVENT
DTSTART;TZID=Australia/Brisbane:20250512T173000
DTEND;TZID=Australia/Brisbane:20250512T184500
DTSTAMP:20260419T092654
CREATED:20250507T073639Z
LAST-MODIFIED:20250507T231506Z
UID:9518-1747071000-1747075500@lifestylecollege.com.au
SUMMARY:Personal & Spiritual Growth Workshop
DESCRIPTION:A seven-week small group workshop exploring key concepts to cultivate self-awareness and grow relationally and spiritually\, facilitated by Sandy Beak and Joey Parnell\, two well-respected Christian mental health workers in Gladstone. \nThis workshop is a safe\, supportive space designed to help participants grow in self-awareness\, relationships\, and spiritual depth. \nTopics include: \n\nexplore creative pathways to connect with self\, God and others\ndiscover your strengths and struggles in forming a deep spiritual relationship\nidentify obstacles to healthy thinking\nlove languages & communication skills\nforgiveness for self and others\nclaiming your identity\, worth & value\nencouragement & purpose\n\nTo register your interest\, please contact the number below.
URL:https://lifestylecollege.com.au/calendar/personal-spiritual-growth-workshop-1/
LOCATION:Private Residence\, 35 Parksville Drive\, New Auckland\, Qld\, 4680\, Australia
CATEGORIES:Community,Social
ORGANIZER;CN="Sandy Beak":MAILTO:sandybeak@gmail.com
END:VEVENT
END:VCALENDAR